BEGIN:VCALENDAR
VERSION:2.0
PRODID:-//Williamsburg Montessori School - ECPv6.15.20//NONSGML v1.0//EN
CALSCALE:GREGORIAN
METHOD:PUBLISH
X-ORIGINAL-URL:https://www.williamsburgmontessori.org
X-WR-CALDESC:Events for Williamsburg Montessori School
REFRESH-INTERVAL;VALUE=DURATION:PT1H
X-Robots-Tag:noindex
X-PUBLISHED-TTL:PT1H
BEGIN:VTIMEZONE
TZID:UTC
BEGIN:STANDARD
TZOFFSETFROM:+0000
TZOFFSETTO:+0000
TZNAME:UTC
DTSTART:20240101T000000
END:STANDARD
END:VTIMEZONE
BEGIN:VEVENT
DTSTART;VALUE=DATE:20250502
DTEND;VALUE=DATE:20250503
DTSTAMP:20260424T030828
CREATED:20241022T031403Z
LAST-MODIFIED:20241022T031403Z
UID:6212-1746144000-1746230399@www.williamsburgmontessori.org
SUMMARY:School Closed - Professional Day
DESCRIPTION:
URL:https://www.williamsburgmontessori.org/calendar/school-closed-professional-day-5/
END:VEVENT
BEGIN:VEVENT
DTSTART;TZID=UTC:20250504T120000
DTEND;TZID=UTC:20250504T150000
DTSTAMP:20260424T030828
CREATED:20241022T031123Z
LAST-MODIFIED:20250318T143041Z
UID:6204-1746360000-1746370800@www.williamsburgmontessori.org
SUMMARY:WMS Family & Friends Festival: An Auction & Celebration to Benefit Williamsburg Montessori School
DESCRIPTION:
URL:https://www.williamsburgmontessori.org/calendar/family-and-friends-festival/
LOCATION:Williamsburg Community Building\, 401 N. Boundary\, Williamsburg\, VA\, 23185
END:VEVENT
BEGIN:VEVENT
DTSTART;TZID=UTC:20250506T080000
DTEND;TZID=UTC:20250506T083000
DTSTAMP:20260424T030828
CREATED:20241022T033010Z
LAST-MODIFIED:20241022T033010Z
UID:6258-1746518400-1746520200@www.williamsburgmontessori.org
SUMMARY:Lower Elementary Drop-in
DESCRIPTION:
URL:https://www.williamsburgmontessori.org/calendar/lower-elementary-drop-in-9/
END:VEVENT
BEGIN:VEVENT
DTSTART;TZID=UTC:20250512T080000
DTEND;TZID=UTC:20250514T170000
DTSTAMP:20260424T030828
CREATED:20241022T031451Z
LAST-MODIFIED:20241022T031451Z
UID:6214-1747036800-1747242000@www.williamsburgmontessori.org
SUMMARY:CH Parent Child Visits (after school)
DESCRIPTION:
URL:https://www.williamsburgmontessori.org/calendar/ch-parent-child-visits-after-school-11/
END:VEVENT
BEGIN:VEVENT
DTSTART;VALUE=DATE:20250519
DTEND;VALUE=DATE:20250521
DTSTAMP:20260424T030828
CREATED:20241022T031532Z
LAST-MODIFIED:20241022T031532Z
UID:6216-1747612800-1747785599@www.williamsburgmontessori.org
SUMMARY:School Closed for Parent/Teacher Conferences
DESCRIPTION:
URL:https://www.williamsburgmontessori.org/calendar/school-closed-for-parent-teacher-conferences-11/
END:VEVENT
BEGIN:VEVENT
DTSTART;VALUE=DATE:20250526
DTEND;VALUE=DATE:20250527
DTSTAMP:20260424T030828
CREATED:20241022T031613Z
LAST-MODIFIED:20241022T031613Z
UID:6218-1748217600-1748303999@www.williamsburgmontessori.org
SUMMARY:School Closed for Memorial Day
DESCRIPTION:
URL:https://www.williamsburgmontessori.org/calendar/school-closed-for-memorial-day-6/
END:VEVENT
END:VCALENDAR