BEGIN:VCALENDAR
VERSION:2.0
PRODID:-//Williamsburg Montessori School - ECPv6.15.20//NONSGML v1.0//EN
CALSCALE:GREGORIAN
METHOD:PUBLISH
X-WR-CALNAME:Williamsburg Montessori School
X-ORIGINAL-URL:https://www.williamsburgmontessori.org
X-WR-CALDESC:Events for Williamsburg Montessori School
REFRESH-INTERVAL;VALUE=DURATION:PT1H
X-Robots-Tag:noindex
X-PUBLISHED-TTL:PT1H
BEGIN:VTIMEZONE
TZID:UTC
BEGIN:STANDARD
TZOFFSETFROM:+0000
TZOFFSETTO:+0000
TZNAME:UTC
DTSTART:20230101T000000
END:STANDARD
END:VTIMEZONE
BEGIN:VEVENT
DTSTART;VALUE=DATE:20240902
DTEND;VALUE=DATE:20240903
DTSTAMP:20260424T165355
CREATED:20240823T234235Z
LAST-MODIFIED:20240823T234235Z
UID:6097-1725235200-1725321599@www.williamsburgmontessori.org
SUMMARY:SCHOOL CLOSED for Labor Day
DESCRIPTION:
URL:https://www.williamsburgmontessori.org/calendar/school-closed-for-labor-day-7/
END:VEVENT
BEGIN:VEVENT
DTSTART;TZID=UTC:20240905T183000
DTEND;TZID=UTC:20240905T193000
DTSTAMP:20260424T165355
CREATED:20240823T234653Z
LAST-MODIFIED:20240823T234653Z
UID:6099-1725561000-1725564600@www.williamsburgmontessori.org
SUMMARY:Toddler and Middle School Orientation
DESCRIPTION:
URL:https://www.williamsburgmontessori.org/calendar/toddler-and-middle-school-orientation-2/
END:VEVENT
BEGIN:VEVENT
DTSTART;TZID=UTC:20240910T183000
DTEND;TZID=UTC:20240910T200000
DTSTAMP:20260424T165355
CREATED:20240823T234737Z
LAST-MODIFIED:20240823T234737Z
UID:6101-1725993000-1725998400@www.williamsburgmontessori.org
SUMMARY:CH1 and Upper Elementary Orientation
DESCRIPTION:
URL:https://www.williamsburgmontessori.org/calendar/ch1-and-upper-elementary-orientation-2/
END:VEVENT
BEGIN:VEVENT
DTSTART;TZID=UTC:20240911T183000
DTEND;TZID=UTC:20240911T200000
DTSTAMP:20260424T165355
CREATED:20240823T234847Z
LAST-MODIFIED:20240823T234847Z
UID:6103-1726079400-1726084800@www.williamsburgmontessori.org
SUMMARY:Lower Elementary Orientation
DESCRIPTION:
URL:https://www.williamsburgmontessori.org/calendar/lower-elementary-orientation-2/
END:VEVENT
BEGIN:VEVENT
DTSTART;TZID=UTC:20240912T183000
DTEND;TZID=UTC:20240912T200000
DTSTAMP:20260424T165355
CREATED:20240823T235129Z
LAST-MODIFIED:20240823T235129Z
UID:6105-1726165800-1726171200@www.williamsburgmontessori.org
SUMMARY:CH2 and CH3 Orientation
DESCRIPTION:
URL:https://www.williamsburgmontessori.org/calendar/ch2-and-ch3-orientation/
END:VEVENT
END:VCALENDAR