BEGIN:VCALENDAR
VERSION:2.0
PRODID:-//Williamsburg Montessori School - ECPv6.15.20//NONSGML v1.0//EN
CALSCALE:GREGORIAN
METHOD:PUBLISH
X-WR-CALNAME:Williamsburg Montessori School
X-ORIGINAL-URL:https://www.williamsburgmontessori.org
X-WR-CALDESC:Events for Williamsburg Montessori School
REFRESH-INTERVAL;VALUE=DURATION:PT1H
X-Robots-Tag:noindex
X-PUBLISHED-TTL:PT1H
BEGIN:VTIMEZONE
TZID:UTC
BEGIN:STANDARD
TZOFFSETFROM:+0000
TZOFFSETTO:+0000
TZNAME:UTC
DTSTART:20220101T000000
END:STANDARD
END:VTIMEZONE
BEGIN:VEVENT
DTSTART;VALUE=DATE:20231221
DTEND;VALUE=DATE:20240103
DTSTAMP:20260425T031058
CREATED:20230810T163848Z
LAST-MODIFIED:20230810T163848Z
UID:5855-1703116800-1704239999@www.williamsburgmontessori.org
SUMMARY:Winter Break
DESCRIPTION:
URL:https://www.williamsburgmontessori.org/calendar/winter-break/
END:VEVENT
BEGIN:VEVENT
DTSTART;VALUE=DATE:20240103
DTEND;VALUE=DATE:20240104
DTSTAMP:20260425T031058
CREATED:20230810T163928Z
LAST-MODIFIED:20230810T163928Z
UID:5857-1704240000-1704326399@www.williamsburgmontessori.org
SUMMARY:School Reopens
DESCRIPTION:
URL:https://www.williamsburgmontessori.org/calendar/school-reopens-9/
END:VEVENT
BEGIN:VEVENT
DTSTART;VALUE=DATE:20240115
DTEND;VALUE=DATE:20240116
DTSTAMP:20260425T031058
CREATED:20230810T164100Z
LAST-MODIFIED:20230810T164100Z
UID:5859-1705276800-1705363199@www.williamsburgmontessori.org
SUMMARY:School Closed for M L King Day
DESCRIPTION:
URL:https://www.williamsburgmontessori.org/calendar/school-closed-for-m-l-king-day-2/
END:VEVENT
BEGIN:VEVENT
DTSTART;TZID=UTC:20240121T130000
DTEND;TZID=UTC:20240121T150000
DTSTAMP:20260425T031058
CREATED:20230810T175355Z
LAST-MODIFIED:20240103T012041Z
UID:5861-1705842000-1705849200@www.williamsburgmontessori.org
SUMMARY:Winter Open House
DESCRIPTION:
URL:https://www.williamsburgmontessori.org/calendar/winter-open-house-5/
END:VEVENT
END:VCALENDAR