BEGIN:VCALENDAR
VERSION:2.0
PRODID:-//Williamsburg Montessori School - ECPv6.15.20//NONSGML v1.0//EN
CALSCALE:GREGORIAN
METHOD:PUBLISH
X-ORIGINAL-URL:https://www.williamsburgmontessori.org
X-WR-CALDESC:Events for Williamsburg Montessori School
REFRESH-INTERVAL;VALUE=DURATION:PT1H
X-Robots-Tag:noindex
X-PUBLISHED-TTL:PT1H
BEGIN:VTIMEZONE
TZID:UTC
BEGIN:STANDARD
TZOFFSETFROM:+0000
TZOFFSETTO:+0000
TZNAME:UTC
DTSTART:20220101T000000
END:STANDARD
END:VTIMEZONE
BEGIN:VEVENT
DTSTART;VALUE=DATE:20240607
DTEND;VALUE=DATE:20240608
DTSTAMP:20260423T232903
CREATED:20230810T193128Z
LAST-MODIFIED:20230810T193128Z
UID:5891-1717718400-1717804799@www.williamsburgmontessori.org
SUMMARY:Noon Dismissal - Last Day of School
DESCRIPTION:
URL:https://www.williamsburgmontessori.org/calendar/noon-dismissal-last-day-of-school-4/
END:VEVENT
BEGIN:VEVENT
DTSTART;TZID=UTC:20240606T080000
DTEND;TZID=UTC:20240606T170000
DTSTAMP:20260423T232903
CREATED:20230810T193035Z
LAST-MODIFIED:20230810T193035Z
UID:5889-1717660800-1717693200@www.williamsburgmontessori.org
SUMMARY:Closing Ceremony
DESCRIPTION:
URL:https://www.williamsburgmontessori.org/calendar/closing-ceremony-7/
END:VEVENT
BEGIN:VEVENT
DTSTART;VALUE=DATE:20240527
DTEND;VALUE=DATE:20240528
DTSTAMP:20260423T232903
CREATED:20230810T192918Z
LAST-MODIFIED:20230810T192918Z
UID:5887-1716768000-1716854399@www.williamsburgmontessori.org
SUMMARY:Memorial Day - School Closed
DESCRIPTION:
URL:https://www.williamsburgmontessori.org/calendar/memorial-day-school-closed-2/
END:VEVENT
BEGIN:VEVENT
DTSTART;TZID=UTC:20240516T080000
DTEND;TZID=UTC:20240517T170000
DTSTAMP:20260423T232903
CREATED:20230810T192825Z
LAST-MODIFIED:20230810T192825Z
UID:5885-1715846400-1715965200@www.williamsburgmontessori.org
SUMMARY:School Closed for Parent Teacher Conferences
DESCRIPTION:
URL:https://www.williamsburgmontessori.org/calendar/school-closed-for-parent-teacher-conferences-10/
END:VEVENT
BEGIN:VEVENT
DTSTART;TZID=UTC:20240506T080000
DTEND;TZID=UTC:20240508T170000
DTSTAMP:20260423T232903
CREATED:20230810T192736Z
LAST-MODIFIED:20230810T192736Z
UID:5883-1714982400-1715187600@www.williamsburgmontessori.org
SUMMARY:CH Parent/Child Visits (after school)
DESCRIPTION:
URL:https://www.williamsburgmontessori.org/calendar/ch-parent-child-visits-after-school-9/
END:VEVENT
BEGIN:VEVENT
DTSTART;TZID=UTC:20240419T080000
DTEND;TZID=UTC:20240419T170000
DTSTAMP:20260423T232903
CREATED:20230810T192636Z
LAST-MODIFIED:20230810T192636Z
UID:5881-1713513600-1713546000@www.williamsburgmontessori.org
SUMMARY:School Closed for Professional Day
DESCRIPTION:
URL:https://www.williamsburgmontessori.org/calendar/school-closed-for-professional-day-21/
END:VEVENT
BEGIN:VEVENT
DTSTART;TZID=UTC:20240408T080000
DTEND;TZID=UTC:20240408T170000
DTSTAMP:20260423T232903
CREATED:20230810T192553Z
LAST-MODIFIED:20230810T192553Z
UID:5879-1712563200-1712595600@www.williamsburgmontessori.org
SUMMARY:School Re-opens
DESCRIPTION:
URL:https://www.williamsburgmontessori.org/calendar/school-re-opens-2/
END:VEVENT
BEGIN:VEVENT
DTSTART;TZID=UTC:20240401T080000
DTEND;TZID=UTC:20240405T170000
DTSTAMP:20260423T232903
CREATED:20230810T192439Z
LAST-MODIFIED:20230810T192439Z
UID:5877-1711958400-1712336400@www.williamsburgmontessori.org
SUMMARY:Spring Break - School Closed
DESCRIPTION:
URL:https://www.williamsburgmontessori.org/calendar/spring-break-school-closed/
END:VEVENT
BEGIN:VEVENT
DTSTART;TZID=UTC:20240329T080000
DTEND;TZID=UTC:20240329T170000
DTSTAMP:20260423T232903
CREATED:20230810T192351Z
LAST-MODIFIED:20230810T192351Z
UID:5875-1711699200-1711731600@www.williamsburgmontessori.org
SUMMARY:Grandparent's Day Open House - Noon Dismissal
DESCRIPTION:
URL:https://www.williamsburgmontessori.org/calendar/grandparents-day-open-house-noon-dismissal-6/
END:VEVENT
BEGIN:VEVENT
DTSTART;TZID=UTC:20240323T080000
DTEND;TZID=UTC:20240323T170000
DTSTAMP:20260423T232903
CREATED:20230810T192201Z
LAST-MODIFIED:20230810T192201Z
UID:5873-1711180800-1711213200@www.williamsburgmontessori.org
SUMMARY:WMS Gala: An Evening in Italy
DESCRIPTION:
URL:https://www.williamsburgmontessori.org/calendar/wms-gala-an-evening-in-italy/
END:VEVENT
BEGIN:VEVENT
DTSTART;VALUE=DATE:20240308
DTEND;VALUE=DATE:20240309
DTSTAMP:20260423T232903
CREATED:20230810T192112Z
LAST-MODIFIED:20230926T211028Z
UID:5871-1709856000-1709942399@www.williamsburgmontessori.org
SUMMARY:School Closed for Professional Day
DESCRIPTION:
URL:https://www.williamsburgmontessori.org/calendar/school-closed-for-presidents-day-7/
END:VEVENT
BEGIN:VEVENT
DTSTART;TZID=UTC:20240222T080000
DTEND;TZID=UTC:20240222T170000
DTSTAMP:20260423T232903
CREATED:20230810T192019Z
LAST-MODIFIED:20230810T192019Z
UID:5869-1708588800-1708621200@www.williamsburgmontessori.org
SUMMARY:What is Middle School? Parent Education
DESCRIPTION:
URL:https://www.williamsburgmontessori.org/calendar/what-is-middle-school-parent-education/
END:VEVENT
BEGIN:VEVENT
DTSTART;VALUE=DATE:20240219
DTEND;VALUE=DATE:20240220
DTSTAMP:20260423T232903
CREATED:20230926T210933Z
LAST-MODIFIED:20230926T210933Z
UID:5936-1708300800-1708387199@www.williamsburgmontessori.org
SUMMARY:School Closed - Presidents' Day
DESCRIPTION:
URL:https://www.williamsburgmontessori.org/calendar/school-closed-presidents-day/
END:VEVENT
BEGIN:VEVENT
DTSTART;TZID=UTC:20240215T080000
DTEND;TZID=UTC:20240215T170000
DTSTAMP:20260423T232903
CREATED:20230810T175608Z
LAST-MODIFIED:20230810T175608Z
UID:5865-1707984000-1708016400@www.williamsburgmontessori.org
SUMMARY:What is Elementary? Parent Education
DESCRIPTION:
URL:https://www.williamsburgmontessori.org/calendar/what-is-elementary-parent-education/
END:VEVENT
BEGIN:VEVENT
DTSTART;TZID=UTC:20240208T080000
DTEND;TZID=UTC:20240208T170000
DTSTAMP:20260423T232903
CREATED:20230810T175533Z
LAST-MODIFIED:20230810T175533Z
UID:5863-1707379200-1707411600@www.williamsburgmontessori.org
SUMMARY:What is Kindergarten? Parent Education
DESCRIPTION:
URL:https://www.williamsburgmontessori.org/calendar/what-is-kindergarten-parent-education/
END:VEVENT
BEGIN:VEVENT
DTSTART;TZID=UTC:20240121T130000
DTEND;TZID=UTC:20240121T150000
DTSTAMP:20260423T232903
CREATED:20230810T175355Z
LAST-MODIFIED:20240103T012041Z
UID:5861-1705842000-1705849200@www.williamsburgmontessori.org
SUMMARY:Winter Open House
DESCRIPTION:
URL:https://www.williamsburgmontessori.org/calendar/winter-open-house-5/
END:VEVENT
BEGIN:VEVENT
DTSTART;VALUE=DATE:20240115
DTEND;VALUE=DATE:20240116
DTSTAMP:20260423T232903
CREATED:20230810T164100Z
LAST-MODIFIED:20230810T164100Z
UID:5859-1705276800-1705363199@www.williamsburgmontessori.org
SUMMARY:School Closed for M L King Day
DESCRIPTION:
URL:https://www.williamsburgmontessori.org/calendar/school-closed-for-m-l-king-day-2/
END:VEVENT
BEGIN:VEVENT
DTSTART;VALUE=DATE:20240103
DTEND;VALUE=DATE:20240104
DTSTAMP:20260423T232903
CREATED:20230810T163928Z
LAST-MODIFIED:20230810T163928Z
UID:5857-1704240000-1704326399@www.williamsburgmontessori.org
SUMMARY:School Reopens
DESCRIPTION:
URL:https://www.williamsburgmontessori.org/calendar/school-reopens-9/
END:VEVENT
BEGIN:VEVENT
DTSTART;VALUE=DATE:20231221
DTEND;VALUE=DATE:20240103
DTSTAMP:20260423T232903
CREATED:20230810T163848Z
LAST-MODIFIED:20230810T163848Z
UID:5855-1703116800-1704239999@www.williamsburgmontessori.org
SUMMARY:Winter Break
DESCRIPTION:
URL:https://www.williamsburgmontessori.org/calendar/winter-break/
END:VEVENT
BEGIN:VEVENT
DTSTART;VALUE=DATE:20231214
DTEND;VALUE=DATE:20231215
DTSTAMP:20260423T232903
CREATED:20230810T163722Z
LAST-MODIFIED:20230810T163722Z
UID:5853-1702512000-1702598399@www.williamsburgmontessori.org
SUMMARY:Parent Education Night
DESCRIPTION:
URL:https://www.williamsburgmontessori.org/calendar/parent-education-night-2/
END:VEVENT
BEGIN:VEVENT
DTSTART;VALUE=DATE:20231122
DTEND;VALUE=DATE:20231125
DTSTAMP:20260423T232903
CREATED:20230810T163622Z
LAST-MODIFIED:20230810T163622Z
UID:5851-1700611200-1700870399@www.williamsburgmontessori.org
SUMMARY:School Closed for Thanksgiving
DESCRIPTION:
URL:https://www.williamsburgmontessori.org/calendar/school-closed-for-thanksgiving-5/
END:VEVENT
BEGIN:VEVENT
DTSTART;VALUE=DATE:20231120
DTEND;VALUE=DATE:20231122
DTSTAMP:20260423T232903
CREATED:20230810T163538Z
LAST-MODIFIED:20230810T163538Z
UID:5849-1700438400-1700611199@www.williamsburgmontessori.org
SUMMARY:School Closed for Parent/Teacher Conferences
DESCRIPTION:
URL:https://www.williamsburgmontessori.org/calendar/school-closed-for-parent-teacher-conferences-9/
END:VEVENT
BEGIN:VEVENT
DTSTART;TZID=UTC:20231113T080000
DTEND;TZID=UTC:20231115T170000
DTSTAMP:20260423T232903
CREATED:20230810T163456Z
LAST-MODIFIED:20230810T163456Z
UID:5847-1699862400-1700067600@www.williamsburgmontessori.org
SUMMARY:CH Parent Visits (after school)
DESCRIPTION:
URL:https://www.williamsburgmontessori.org/calendar/ch-parent-visits-after-school/
END:VEVENT
BEGIN:VEVENT
DTSTART;VALUE=DATE:20231103
DTEND;VALUE=DATE:20231104
DTSTAMP:20260423T232903
CREATED:20230810T163218Z
LAST-MODIFIED:20230810T163218Z
UID:5845-1698969600-1699055999@www.williamsburgmontessori.org
SUMMARY:School Closed Professional Day
DESCRIPTION:
URL:https://www.williamsburgmontessori.org/calendar/school-closed-professional-day-3/
END:VEVENT
BEGIN:VEVENT
DTSTART;VALUE=DATE:20231019
DTEND;VALUE=DATE:20231020
DTSTAMP:20260423T232903
CREATED:20230810T163119Z
LAST-MODIFIED:20230810T163119Z
UID:5843-1697673600-1697759999@www.williamsburgmontessori.org
SUMMARY:Parent Education Night
DESCRIPTION:
URL:https://www.williamsburgmontessori.org/calendar/parent-education-night/
END:VEVENT
BEGIN:VEVENT
DTSTART;TZID=UTC:20231006T173000
DTEND;TZID=UTC:20231006T190000
DTSTAMP:20260423T232903
CREATED:20230921T175915Z
LAST-MODIFIED:20230921T175954Z
UID:5928-1696613400-1696618800@www.williamsburgmontessori.org
SUMMARY:WMS Ice Cream Social
DESCRIPTION:
URL:https://www.williamsburgmontessori.org/calendar/wms-ice-cream-social/
LOCATION:Kiwanis Park
ATTACH;FMTTYPE=image/png:https://www.williamsburgmontessori.org/wp-content/uploads/2023/09/Ice-Cream-Flyer-New-Date.png
END:VEVENT
BEGIN:VEVENT
DTSTART;VALUE=DATE:20231002
DTEND;VALUE=DATE:20231003
DTSTAMP:20260423T232903
CREATED:20230919T142440Z
LAST-MODIFIED:20230919T142440Z
UID:5926-1696204800-1696291199@www.williamsburgmontessori.org
SUMMARY:School Closed for Professional Day
DESCRIPTION:
URL:https://www.williamsburgmontessori.org/calendar/school-closed-for-professional-day-22/
END:VEVENT
BEGIN:VEVENT
DTSTART;TZID=UTC:20230914T183000
DTEND;TZID=UTC:20230914T183000
DTSTAMP:20260423T232903
CREATED:20230810T162959Z
LAST-MODIFIED:20230810T162959Z
UID:5839-1694716200-1694716200@www.williamsburgmontessori.org
SUMMARY:CH2 & CH3 Orientation
DESCRIPTION:
URL:https://www.williamsburgmontessori.org/calendar/ch2-ch3-orientation/
END:VEVENT
BEGIN:VEVENT
DTSTART;TZID=UTC:20230913T183000
DTEND;TZID=UTC:20230913T193000
DTSTAMP:20260423T232903
CREATED:20230801T151448Z
LAST-MODIFIED:20230904T183327Z
UID:5835-1694629800-1694633400@www.williamsburgmontessori.org
SUMMARY:Lower Elementary Orientation
DESCRIPTION:
URL:https://www.williamsburgmontessori.org/calendar/lower-elementary-orientation/
END:VEVENT
BEGIN:VEVENT
DTSTART;TZID=UTC:20230912T183000
DTEND;TZID=UTC:20230912T193000
DTSTAMP:20260423T232903
CREATED:20230801T151224Z
LAST-MODIFIED:20230801T151224Z
UID:5833-1694543400-1694547000@www.williamsburgmontessori.org
SUMMARY:CH1 and Upper Elementary Orientation
DESCRIPTION:
URL:https://www.williamsburgmontessori.org/calendar/ch1-and-upper-elementary-orientation/
END:VEVENT
END:VCALENDAR