BEGIN:VCALENDAR
VERSION:2.0
PRODID:-//Williamsburg Montessori School - ECPv6.15.20//NONSGML v1.0//EN
CALSCALE:GREGORIAN
METHOD:PUBLISH
X-WR-CALNAME:Williamsburg Montessori School
X-ORIGINAL-URL:https://www.williamsburgmontessori.org
X-WR-CALDESC:Events for Williamsburg Montessori School
REFRESH-INTERVAL;VALUE=DURATION:PT1H
X-Robots-Tag:noindex
X-PUBLISHED-TTL:PT1H
BEGIN:VTIMEZONE
TZID:UTC
BEGIN:STANDARD
TZOFFSETFROM:+0000
TZOFFSETTO:+0000
TZNAME:UTC
DTSTART:20210101T000000
END:STANDARD
END:VTIMEZONE
BEGIN:VEVENT
DTSTART;TZID=UTC:20230612T080000
DTEND;TZID=UTC:20230616T170000
DTSTAMP:20260425T111046
CREATED:20221222T145039Z
LAST-MODIFIED:20221222T145039Z
UID:5206-1686556800-1686934800@www.williamsburgmontessori.org
SUMMARY:School Closed for Facility Maintenance
DESCRIPTION:
URL:https://www.williamsburgmontessori.org/calendar/school-closed-for-facility-maintenance-7/
END:VEVENT
BEGIN:VEVENT
DTSTART;VALUE=DATE:20230609
DTEND;VALUE=DATE:20230610
DTSTAMP:20260425T111046
CREATED:20221222T145006Z
LAST-MODIFIED:20221222T145006Z
UID:5204-1686268800-1686355199@www.williamsburgmontessori.org
SUMMARY:Last Day of School
DESCRIPTION:
URL:https://www.williamsburgmontessori.org/calendar/last-day-of-school/
END:VEVENT
BEGIN:VEVENT
DTSTART;TZID=UTC:20230608T080000
DTEND;TZID=UTC:20230608T170000
DTSTAMP:20260425T111046
CREATED:20221222T144935Z
LAST-MODIFIED:20221222T144935Z
UID:5202-1686211200-1686243600@www.williamsburgmontessori.org
SUMMARY:Closing Ceremony
DESCRIPTION:
URL:https://www.williamsburgmontessori.org/calendar/closing-ceremony-6/
END:VEVENT
BEGIN:VEVENT
DTSTART;VALUE=DATE:20230529
DTEND;VALUE=DATE:20230530
DTSTAMP:20260425T111046
CREATED:20221222T144624Z
LAST-MODIFIED:20221222T144624Z
UID:5200-1685318400-1685404799@www.williamsburgmontessori.org
SUMMARY:Memorial Day - School Closed
DESCRIPTION:
URL:https://www.williamsburgmontessori.org/calendar/memorial-day-school-closed/
END:VEVENT
BEGIN:VEVENT
DTSTART;TZID=UTC:20230518T080000
DTEND;TZID=UTC:20230519T170000
DTSTAMP:20260425T111046
CREATED:20221222T144541Z
LAST-MODIFIED:20221222T144541Z
UID:5198-1684396800-1684515600@www.williamsburgmontessori.org
SUMMARY:Parent Teacher Conferences - School Closed
DESCRIPTION:
URL:https://www.williamsburgmontessori.org/calendar/parent-teacher-conferences-school-closed/
END:VEVENT
BEGIN:VEVENT
DTSTART;VALUE=DATE:20230508
DTEND;VALUE=DATE:20230511
DTSTAMP:20260425T111046
CREATED:20221222T143743Z
LAST-MODIFIED:20221222T143743Z
UID:5196-1683504000-1683763199@www.williamsburgmontessori.org
SUMMARY:CH Parent/Child Visits (after school)
DESCRIPTION:
URL:https://www.williamsburgmontessori.org/calendar/ch-parent-child-visits-after-school-8/
END:VEVENT
BEGIN:VEVENT
DTSTART;TZID=UTC:20230421T080000
DTEND;TZID=UTC:20230421T170000
DTSTAMP:20260425T111046
CREATED:20221222T143535Z
LAST-MODIFIED:20221222T143535Z
UID:5194-1682064000-1682096400@www.williamsburgmontessori.org
SUMMARY:School Closed for Professional Day
DESCRIPTION:
URL:https://www.williamsburgmontessori.org/calendar/school-closed-for-professional-day-19/
END:VEVENT
BEGIN:VEVENT
DTSTART;VALUE=DATE:20230410
DTEND;VALUE=DATE:20230411
DTSTAMP:20260425T111046
CREATED:20221222T143402Z
LAST-MODIFIED:20221222T143402Z
UID:5192-1681084800-1681171199@www.williamsburgmontessori.org
SUMMARY:School Reopens
DESCRIPTION:
URL:https://www.williamsburgmontessori.org/calendar/school-reopens-8/
END:VEVENT
BEGIN:VEVENT
DTSTART;TZID=UTC:20230403T080000
DTEND;TZID=UTC:20230407T170000
DTSTAMP:20260425T111046
CREATED:20221222T143329Z
LAST-MODIFIED:20221222T143329Z
UID:5190-1680508800-1680886800@www.williamsburgmontessori.org
SUMMARY:Spring Break
DESCRIPTION:
URL:https://www.williamsburgmontessori.org/calendar/spring-break/
END:VEVENT
BEGIN:VEVENT
DTSTART;TZID=UTC:20230331T080000
DTEND;TZID=UTC:20230331T170000
DTSTAMP:20260425T111046
CREATED:20221222T143238Z
LAST-MODIFIED:20221222T143238Z
UID:5188-1680249600-1680282000@www.williamsburgmontessori.org
SUMMARY:Grandparent's Day Open House - Noon Dismissal
DESCRIPTION:
URL:https://www.williamsburgmontessori.org/calendar/grandparents-day-open-house-noon-dismissal-5/
END:VEVENT
BEGIN:VEVENT
DTSTART;TZID=UTC:20230310T080000
DTEND;TZID=UTC:20230310T170000
DTSTAMP:20260425T111046
CREATED:20221222T143159Z
LAST-MODIFIED:20221222T143159Z
UID:5186-1678435200-1678467600@www.williamsburgmontessori.org
SUMMARY:School Closed for Professional Day
DESCRIPTION:
URL:https://www.williamsburgmontessori.org/calendar/school-closed-for-professional-day-18/
END:VEVENT
BEGIN:VEVENT
DTSTART;VALUE=DATE:20230220
DTEND;VALUE=DATE:20230221
DTSTAMP:20260425T111046
CREATED:20221222T143017Z
LAST-MODIFIED:20221222T143017Z
UID:5184-1676851200-1676937599@www.williamsburgmontessori.org
SUMMARY:School Closed for President's Day
DESCRIPTION:
URL:https://www.williamsburgmontessori.org/calendar/school-closed-for-presidents-day-5/
END:VEVENT
BEGIN:VEVENT
DTSTART;TZID=UTC:20230122T130000
DTEND;TZID=UTC:20230122T150000
DTSTAMP:20260425T111046
CREATED:20221222T142941Z
LAST-MODIFIED:20221222T142941Z
UID:5182-1674392400-1674399600@www.williamsburgmontessori.org
SUMMARY:Winter Open House
DESCRIPTION:
URL:https://www.williamsburgmontessori.org/calendar/winter-open-house-4/
END:VEVENT
BEGIN:VEVENT
DTSTART;VALUE=DATE:20230116
DTEND;VALUE=DATE:20230117
DTSTAMP:20260425T111046
CREATED:20220524T141457Z
LAST-MODIFIED:20220524T162817Z
UID:3176-1673827200-1673913599@www.williamsburgmontessori.org
SUMMARY:SCHOOL CLOSED for M L King Day
DESCRIPTION:
URL:https://www.williamsburgmontessori.org/calendar/school-closed-for-m-l-king-day/
END:VEVENT
BEGIN:VEVENT
DTSTART;VALUE=DATE:20230103
DTEND;VALUE=DATE:20230104
DTSTAMP:20260425T111046
CREATED:20220524T141424Z
LAST-MODIFIED:20220524T141424Z
UID:3174-1672704000-1672790399@www.williamsburgmontessori.org
SUMMARY:School Reopens
DESCRIPTION:
URL:https://www.williamsburgmontessori.org/calendar/school-reopens-7/
END:VEVENT
BEGIN:VEVENT
DTSTART;VALUE=DATE:20221219
DTEND;VALUE=DATE:20230103
DTSTAMP:20260425T111046
CREATED:20220524T141337Z
LAST-MODIFIED:20220524T141337Z
UID:3172-1671408000-1672703999@www.williamsburgmontessori.org
SUMMARY:Winter Break Begins
DESCRIPTION:
URL:https://www.williamsburgmontessori.org/calendar/winter-break-begins-5/
END:VEVENT
BEGIN:VEVENT
DTSTART;VALUE=DATE:20221123
DTEND;VALUE=DATE:20221126
DTSTAMP:20260425T111046
CREATED:20220524T141257Z
LAST-MODIFIED:20220524T141257Z
UID:3170-1669161600-1669420799@www.williamsburgmontessori.org
SUMMARY:SCHOOL CLOSED for Thanksgiving
DESCRIPTION:
URL:https://www.williamsburgmontessori.org/calendar/school-closed-for-thanksgiving-4/
END:VEVENT
BEGIN:VEVENT
DTSTART;VALUE=DATE:20221121
DTEND;VALUE=DATE:20221123
DTSTAMP:20260425T111046
CREATED:20220524T141004Z
LAST-MODIFIED:20220524T141004Z
UID:3168-1668988800-1669161599@www.williamsburgmontessori.org
SUMMARY:SCHOOL CLOSED for Parent/Teacher Conferences
DESCRIPTION:
URL:https://www.williamsburgmontessori.org/calendar/school-closed-for-parent-teacher-conferences-8/
END:VEVENT
BEGIN:VEVENT
DTSTART;VALUE=DATE:20221114
DTEND;VALUE=DATE:20221117
DTSTAMP:20260425T111046
CREATED:20220524T140920Z
LAST-MODIFIED:20220524T140920Z
UID:3166-1668384000-1668643199@www.williamsburgmontessori.org
SUMMARY:CH Parent/Child Visits (after school)
DESCRIPTION:
URL:https://www.williamsburgmontessori.org/calendar/ch-parent-child-visits-after-school-7/
END:VEVENT
BEGIN:VEVENT
DTSTART;VALUE=DATE:20221104
DTEND;VALUE=DATE:20221105
DTSTAMP:20260425T111046
CREATED:20220524T140830Z
LAST-MODIFIED:20220524T140830Z
UID:3164-1667520000-1667606399@www.williamsburgmontessori.org
SUMMARY:SCHOOL CLOSED for Professional Day
DESCRIPTION:
URL:https://www.williamsburgmontessori.org/calendar/school-closed-for-professional-day-17/
END:VEVENT
BEGIN:VEVENT
DTSTART;VALUE=DATE:20221007
DTEND;VALUE=DATE:20221008
DTSTAMP:20260425T111046
CREATED:20220524T140802Z
LAST-MODIFIED:20220524T140802Z
UID:3162-1665100800-1665187199@www.williamsburgmontessori.org
SUMMARY:SCHOOL CLOSED for Professional Day
DESCRIPTION:
URL:https://www.williamsburgmontessori.org/calendar/school-closed-for-professional-day-16/
END:VEVENT
BEGIN:VEVENT
DTSTART;VALUE=DATE:20220906
DTEND;VALUE=DATE:20220907
DTSTAMP:20260425T111046
CREATED:20220524T140717Z
LAST-MODIFIED:20220524T140717Z
UID:3160-1662422400-1662508799@www.williamsburgmontessori.org
SUMMARY:School Begins
DESCRIPTION:Phase-In schedule this week for new Toddlers plys Rising & New CH Students
URL:https://www.williamsburgmontessori.org/calendar/school-begins-5/
END:VEVENT
BEGIN:VEVENT
DTSTART;VALUE=DATE:20220905
DTEND;VALUE=DATE:20220906
DTSTAMP:20260425T111046
CREATED:20220524T140446Z
LAST-MODIFIED:20220524T140446Z
UID:3158-1662336000-1662422399@www.williamsburgmontessori.org
SUMMARY:School Closed for Labor Day
DESCRIPTION:
URL:https://www.williamsburgmontessori.org/calendar/school-closed-for-labor-day-5/
END:VEVENT
BEGIN:VEVENT
DTSTART;TZID=UTC:20220902T100000
DTEND;TZID=UTC:20220902T123000
DTSTAMP:20260425T111046
CREATED:20220524T135607Z
LAST-MODIFIED:20220524T135607Z
UID:3149-1662112800-1662121800@www.williamsburgmontessori.org
SUMMARY:Eighth Grade Leadership Conference
DESCRIPTION:
URL:https://www.williamsburgmontessori.org/calendar/eighth-grade-leadership-conference-3/
END:VEVENT
BEGIN:VEVENT
DTSTART;TZID=UTC:20220902T090000
DTEND;TZID=UTC:20220902T130000
DTSTAMP:20260425T111046
CREATED:20220524T140413Z
LAST-MODIFIED:20220524T140413Z
UID:3156-1662109200-1662123600@www.williamsburgmontessori.org
SUMMARY:Sixth Year Leadership Conference
DESCRIPTION:
URL:https://www.williamsburgmontessori.org/calendar/sixth-year-leadership-conference-5/
END:VEVENT
BEGIN:VEVENT
DTSTART;TZID=UTC:20220902T090000
DTEND;TZID=UTC:20220902T110000
DTSTAMP:20260425T111046
CREATED:20220524T140021Z
LAST-MODIFIED:20220524T140032Z
UID:3154-1662109200-1662116400@www.williamsburgmontessori.org
SUMMARY:Third Year Leadership Conference
DESCRIPTION:
URL:https://www.williamsburgmontessori.org/calendar/third-year-leadership-conference-4/
END:VEVENT
BEGIN:VEVENT
DTSTART;TZID=UTC:20220902T090000
DTEND;TZID=UTC:20220902T103000
DTSTAMP:20260425T111046
CREATED:20220524T135654Z
LAST-MODIFIED:20220524T135654Z
UID:3151-1662109200-1662114600@www.williamsburgmontessori.org
SUMMARY:Orientation for New Children's House Students
DESCRIPTION:
URL:https://www.williamsburgmontessori.org/calendar/orientation-for-new-childrens-house-students-5/
END:VEVENT
BEGIN:VEVENT
DTSTART;TZID=UTC:20220829T080000
DTEND;TZID=UTC:20220902T170000
DTSTAMP:20260425T111046
CREATED:20220524T135520Z
LAST-MODIFIED:20220524T135520Z
UID:3147-1661760000-1662138000@www.williamsburgmontessori.org
SUMMARY:Staff Professional Days
DESCRIPTION:
URL:https://www.williamsburgmontessori.org/calendar/staff-professional-days-5/
END:VEVENT
BEGIN:VEVENT
DTSTART;TZID=UTC:20220815T080000
DTEND;TZID=UTC:20220819T170000
DTSTAMP:20260425T111046
CREATED:20210705T115303Z
LAST-MODIFIED:20210705T115303Z
UID:2036-1660550400-1660928400@www.williamsburgmontessori.org
SUMMARY:Tentative Optional Week Schedule Subject to Change
DESCRIPTION:
URL:https://www.williamsburgmontessori.org/calendar/tentative-optional-week-schedule-subject-to-change/
END:VEVENT
BEGIN:VEVENT
DTSTART;VALUE=DATE:20220812
DTEND;VALUE=DATE:20220813
DTSTAMP:20260425T111046
CREATED:20210705T114935Z
LAST-MODIFIED:20210705T114935Z
UID:2034-1660262400-1660262400@www.williamsburgmontessori.org
SUMMARY:Toddler Program Ends
DESCRIPTION:
URL:https://www.williamsburgmontessori.org/calendar/toddler-program-ends/
END:VEVENT
END:VCALENDAR