BEGIN:VCALENDAR
VERSION:2.0
PRODID:-//Williamsburg Montessori School - ECPv6.15.20//NONSGML v1.0//EN
CALSCALE:GREGORIAN
METHOD:PUBLISH
X-WR-CALNAME:Williamsburg Montessori School
X-ORIGINAL-URL:https://www.williamsburgmontessori.org
X-WR-CALDESC:Events for Williamsburg Montessori School
REFRESH-INTERVAL;VALUE=DURATION:PT1H
X-Robots-Tag:noindex
X-PUBLISHED-TTL:PT1H
BEGIN:VTIMEZONE
TZID:UTC
BEGIN:STANDARD
TZOFFSETFROM:+0000
TZOFFSETTO:+0000
TZNAME:UTC
DTSTART:20170101T000000
END:STANDARD
END:VTIMEZONE
BEGIN:VEVENT
DTSTART;TZID=UTC:20180917T183000
DTEND;TZID=UTC:20180917T183000
DTSTAMP:20260426T005412
CREATED:20180912T214949Z
LAST-MODIFIED:20180912T214949Z
UID:1002-1537209000-1537209000@www.williamsburgmontessori.org
SUMMARY:Upper Elementary Parent Orientation
DESCRIPTION:
URL:https://www.williamsburgmontessori.org/calendar/upper-elementary-parent-orientation/
END:VEVENT
BEGIN:VEVENT
DTSTART;TZID=UTC:20180912T080000
DTEND;TZID=UTC:20180914T170000
DTSTAMP:20260426T005412
CREATED:20180716T170234Z
LAST-MODIFIED:20180716T170234Z
UID:954-1536739200-1536944400@www.williamsburgmontessori.org
SUMMARY:Middle School Unity Trip
DESCRIPTION:
URL:https://www.williamsburgmontessori.org/calendar/middle-school-unity-trip/
END:VEVENT
BEGIN:VEVENT
DTSTART;TZID=UTC:20180906T183000
DTEND;TZID=UTC:20180906T193000
DTSTAMP:20260426T005412
CREATED:20180716T170348Z
LAST-MODIFIED:20180716T170348Z
UID:956-1536258600-1536262200@www.williamsburgmontessori.org
SUMMARY:Parent Orientation - Middle School
DESCRIPTION:
URL:https://www.williamsburgmontessori.org/calendar/parent-orientation-middle-school/
END:VEVENT
BEGIN:VEVENT
DTSTART;TZID=UTC:20180906T183000
DTEND;TZID=UTC:20180906T183000
DTSTAMP:20260426T005412
CREATED:20180726T210635Z
LAST-MODIFIED:20180726T210635Z
UID:963-1536258600-1536258600@www.williamsburgmontessori.org
SUMMARY:Toddler & Middle School Parent Orientation
DESCRIPTION:
URL:https://www.williamsburgmontessori.org/calendar/toddler-middle-school-parent-orientation/
END:VEVENT
BEGIN:VEVENT
DTSTART;TZID=UTC:20180904T080000
DTEND;TZID=UTC:20180904T170000
DTSTAMP:20260426T005412
CREATED:20180517T144522Z
LAST-MODIFIED:20180517T144522Z
UID:870-1536048000-1536080400@www.williamsburgmontessori.org
SUMMARY:School Begins
DESCRIPTION:Phase-In Schedule this week for new Toddlers and Children’s House students
URL:https://www.williamsburgmontessori.org/calendar/school-begins/
END:VEVENT
BEGIN:VEVENT
DTSTART;TZID=UTC:20180903T080000
DTEND;TZID=UTC:20180903T170000
DTSTAMP:20260426T005412
CREATED:20180517T144258Z
LAST-MODIFIED:20180517T144258Z
UID:868-1535961600-1535994000@www.williamsburgmontessori.org
SUMMARY:School Closed for Labor Day
DESCRIPTION:
URL:https://www.williamsburgmontessori.org/calendar/school-closed-for-labor-day/
END:VEVENT
BEGIN:VEVENT
DTSTART;TZID=UTC:20180831T090000
DTEND;TZID=UTC:20180831T130000
DTSTAMP:20260426T005412
CREATED:20180517T144153Z
LAST-MODIFIED:20180517T144153Z
UID:866-1535706000-1535720400@www.williamsburgmontessori.org
SUMMARY:Sixth Year Leadership Conference
DESCRIPTION:
URL:https://www.williamsburgmontessori.org/calendar/sixth-year-leadership-conference/
END:VEVENT
BEGIN:VEVENT
DTSTART;TZID=UTC:20180831T090000
DTEND;TZID=UTC:20180831T120000
DTSTAMP:20260426T005412
CREATED:20180517T143842Z
LAST-MODIFIED:20180517T143842Z
UID:864-1535706000-1535716800@www.williamsburgmontessori.org
SUMMARY:Third Year Leadership Conference
DESCRIPTION:
URL:https://www.williamsburgmontessori.org/calendar/third-year-leadership-conference/
END:VEVENT
BEGIN:VEVENT
DTSTART;TZID=UTC:20180830T100000
DTEND;TZID=UTC:20180830T120000
DTSTAMP:20260426T005412
CREATED:20180716T170118Z
LAST-MODIFIED:20180716T170118Z
UID:952-1535623200-1535630400@www.williamsburgmontessori.org
SUMMARY:8th Grade Leadership Meeting
DESCRIPTION:
URL:https://www.williamsburgmontessori.org/calendar/8th-grade-leadership-meeting/
END:VEVENT
BEGIN:VEVENT
DTSTART;TZID=UTC:20180830T093000
DTEND;TZID=UTC:20180831T103000
DTSTAMP:20260426T005412
CREATED:20180517T143552Z
LAST-MODIFIED:20180517T143552Z
UID:862-1535621400-1535711400@www.williamsburgmontessori.org
SUMMARY:Orientation for New Children's House Students
DESCRIPTION:
URL:https://www.williamsburgmontessori.org/calendar/orientation-for-new-childrens-house-students/
END:VEVENT
BEGIN:VEVENT
DTSTART;TZID=UTC:20180827T080000
DTEND;TZID=UTC:20180831T170000
DTSTAMP:20260426T005412
CREATED:20180517T143209Z
LAST-MODIFIED:20180517T143209Z
UID:860-1535356800-1535734800@www.williamsburgmontessori.org
SUMMARY:Staff Professional Days
DESCRIPTION:
URL:https://www.williamsburgmontessori.org/calendar/staff-professional-days/
END:VEVENT
BEGIN:VEVENT
DTSTART;VALUE=DATE:20180704
DTEND;VALUE=DATE:20180705
DTSTAMP:20260426T005412
CREATED:20180517T145524Z
LAST-MODIFIED:20180517T145524Z
UID:888-1530662400-1530748799@www.williamsburgmontessori.org
SUMMARY:School Closed for Independence Day
DESCRIPTION:
URL:https://www.williamsburgmontessori.org/calendar/school-closed-for-independence-day/
END:VEVENT
BEGIN:VEVENT
DTSTART;TZID=UTC:20180618T080000
DTEND;TZID=UTC:20180618T170000
DTSTAMP:20260426T005412
CREATED:20180517T145352Z
LAST-MODIFIED:20180517T145352Z
UID:886-1529308800-1529341200@www.williamsburgmontessori.org
SUMMARY:Summer Session Begins
DESCRIPTION:
URL:https://www.williamsburgmontessori.org/calendar/summer-session-begins/
END:VEVENT
BEGIN:VEVENT
DTSTART;TZID=UTC:20180611T080000
DTEND;TZID=UTC:20180615T170000
DTSTAMP:20260426T005412
CREATED:20180517T145312Z
LAST-MODIFIED:20180517T145312Z
UID:884-1528704000-1529082000@www.williamsburgmontessori.org
SUMMARY:School Closed for Facility Maintenance
DESCRIPTION:
URL:https://www.williamsburgmontessori.org/calendar/school-closed-for-facility-maintenance/
END:VEVENT
BEGIN:VEVENT
DTSTART;TZID=UTC:20180608T120000
DTEND;TZID=UTC:20180608T120000
DTSTAMP:20260426T005412
CREATED:20180517T145237Z
LAST-MODIFIED:20180517T145237Z
UID:882-1528459200-1528459200@www.williamsburgmontessori.org
SUMMARY:Noon Dismissal -- Last Day of School
DESCRIPTION:
URL:https://www.williamsburgmontessori.org/calendar/noon-dismissal-last-day-of-school/
END:VEVENT
BEGIN:VEVENT
DTSTART;TZID=UTC:20180607T080000
DTEND;TZID=UTC:20180607T170000
DTSTAMP:20260426T005412
CREATED:20180517T145141Z
LAST-MODIFIED:20180517T145141Z
UID:880-1528358400-1528390800@www.williamsburgmontessori.org
SUMMARY:Closing Ceremony
DESCRIPTION:
URL:https://www.williamsburgmontessori.org/calendar/closing-ceremony/
END:VEVENT
BEGIN:VEVENT
DTSTART;TZID=UTC:20180528T080000
DTEND;TZID=UTC:20180528T170000
DTSTAMP:20260426T005412
CREATED:20180517T145034Z
LAST-MODIFIED:20180517T145034Z
UID:878-1527494400-1527526800@www.williamsburgmontessori.org
SUMMARY:School closed for Memorial Day
DESCRIPTION:
URL:https://www.williamsburgmontessori.org/calendar/school-closed-for-memorial-day/
END:VEVENT
END:VCALENDAR