BEGIN:VCALENDAR
VERSION:2.0
PRODID:-//Williamsburg Montessori School - ECPv6.15.20//NONSGML v1.0//EN
CALSCALE:GREGORIAN
METHOD:PUBLISH
X-WR-CALNAME:Williamsburg Montessori School
X-ORIGINAL-URL:https://www.williamsburgmontessori.org
X-WR-CALDESC:Events for Williamsburg Montessori School
REFRESH-INTERVAL;VALUE=DURATION:PT1H
X-Robots-Tag:noindex
X-PUBLISHED-TTL:PT1H
BEGIN:VTIMEZONE
TZID:UTC
BEGIN:STANDARD
TZOFFSETFROM:+0000
TZOFFSETTO:+0000
TZNAME:UTC
DTSTART:20170101T000000
END:STANDARD
END:VTIMEZONE
BEGIN:VEVENT
DTSTART;TZID=UTC:20180607T080000
DTEND;TZID=UTC:20180607T170000
DTSTAMP:20260426T042851
CREATED:20180517T145141Z
LAST-MODIFIED:20180517T145141Z
UID:880-1528358400-1528390800@www.williamsburgmontessori.org
SUMMARY:Closing Ceremony
DESCRIPTION:
URL:https://www.williamsburgmontessori.org/calendar/closing-ceremony/
END:VEVENT
BEGIN:VEVENT
DTSTART;TZID=UTC:20180528T080000
DTEND;TZID=UTC:20180528T170000
DTSTAMP:20260426T042851
CREATED:20180517T145034Z
LAST-MODIFIED:20180517T145034Z
UID:878-1527494400-1527526800@www.williamsburgmontessori.org
SUMMARY:School closed for Memorial Day
DESCRIPTION:
URL:https://www.williamsburgmontessori.org/calendar/school-closed-for-memorial-day/
END:VEVENT
END:VCALENDAR