BEGIN:VCALENDAR
VERSION:2.0
PRODID:-//Williamsburg Montessori School - ECPv6.15.20//NONSGML v1.0//EN
CALSCALE:GREGORIAN
METHOD:PUBLISH
X-WR-CALNAME:Williamsburg Montessori School
X-ORIGINAL-URL:https://www.williamsburgmontessori.org
X-WR-CALDESC:Events for Williamsburg Montessori School
REFRESH-INTERVAL;VALUE=DURATION:PT1H
X-Robots-Tag:noindex
X-PUBLISHED-TTL:PT1H
BEGIN:VTIMEZONE
TZID:UTC
BEGIN:STANDARD
TZOFFSETFROM:+0000
TZOFFSETTO:+0000
TZNAME:UTC
DTSTART:20180101T000000
END:STANDARD
END:VTIMEZONE
BEGIN:VEVENT
DTSTART;TZID=UTC:20191118T080000
DTEND;TZID=UTC:20191120T170000
DTSTAMP:20260425T112142
CREATED:20190802T203309Z
LAST-MODIFIED:20190802T203309Z
UID:1331-1574064000-1574269200@www.williamsburgmontessori.org
SUMMARY:Children's House Parent/Child Visits
DESCRIPTION:
URL:https://www.williamsburgmontessori.org/calendar/childrens-house-parent-child-visits/
END:VEVENT
BEGIN:VEVENT
DTSTART;TZID=UTC:20191113T080000
DTEND;TZID=UTC:20191113T083000
DTSTAMP:20260425T112142
CREATED:20190802T203214Z
LAST-MODIFIED:20190802T203214Z
UID:1329-1573632000-1573633800@www.williamsburgmontessori.org
SUMMARY:Upper Elementary Drop In
DESCRIPTION:
URL:https://www.williamsburgmontessori.org/calendar/upper-elementary-drop-in-2/
END:VEVENT
BEGIN:VEVENT
DTSTART;TZID=UTC:20191107T080000
DTEND;TZID=UTC:20191107T170000
DTSTAMP:20260425T112142
CREATED:20190802T202924Z
LAST-MODIFIED:20190802T202924Z
UID:1327-1573113600-1573146000@www.williamsburgmontessori.org
SUMMARY:Montessori Language Curriculum at WMS\, a Continuum (all levels)
DESCRIPTION:
URL:https://www.williamsburgmontessori.org/calendar/montessori-language-curriculum-at-wms-a-continuum-all-levels/
END:VEVENT
BEGIN:VEVENT
DTSTART;TZID=UTC:20191106T080000
DTEND;TZID=UTC:20191106T083000
DTSTAMP:20260425T112142
CREATED:20190802T202826Z
LAST-MODIFIED:20190802T202826Z
UID:1325-1573027200-1573029000@www.williamsburgmontessori.org
SUMMARY:Lower Elementary Drop In
DESCRIPTION:
URL:https://www.williamsburgmontessori.org/calendar/lower-elementary-drop-in-2/
END:VEVENT
BEGIN:VEVENT
DTSTART;TZID=UTC:20191104T080000
DTEND;TZID=UTC:20191104T170000
DTSTAMP:20260425T112142
CREATED:20190712T152332Z
LAST-MODIFIED:20190712T152332Z
UID:1255-1572854400-1572886800@www.williamsburgmontessori.org
SUMMARY:School Closed - Professional Day
DESCRIPTION:
URL:https://www.williamsburgmontessori.org/calendar/school-closed-professional-day-2/
END:VEVENT
BEGIN:VEVENT
DTSTART;TZID=UTC:20191031T080000
DTEND;TZID=UTC:20191031T170000
DTSTAMP:20260425T112142
CREATED:20190802T202738Z
LAST-MODIFIED:20190802T202738Z
UID:1323-1572508800-1572541200@www.williamsburgmontessori.org
SUMMARY:Coffee with Head of School & Education Director
DESCRIPTION:
URL:https://www.williamsburgmontessori.org/calendar/coffee-with-head-of-school-education-director/
END:VEVENT
BEGIN:VEVENT
DTSTART;TZID=UTC:20191017T080000
DTEND;TZID=UTC:20191017T170000
DTSTAMP:20260425T112142
CREATED:20190802T202649Z
LAST-MODIFIED:20190802T202649Z
UID:1321-1571299200-1571331600@www.williamsburgmontessori.org
SUMMARY:What is the Cosmic Curriculum? (Elementary)
DESCRIPTION:
URL:https://www.williamsburgmontessori.org/calendar/what-is-the-cosmic-curriculum-elementary/
END:VEVENT
BEGIN:VEVENT
DTSTART;TZID=UTC:20191010T080000
DTEND;TZID=UTC:20191010T170000
DTSTAMP:20260425T112142
CREATED:20190802T202534Z
LAST-MODIFIED:20190802T202534Z
UID:1319-1570694400-1570726800@www.williamsburgmontessori.org
SUMMARY:The Importance of Practical Life for Independence (Toddler/CH)
DESCRIPTION:
URL:https://www.williamsburgmontessori.org/calendar/the-importance-of-practical-life-for-independence-toddler-ch/
END:VEVENT
BEGIN:VEVENT
DTSTART;TZID=UTC:20191009T080000
DTEND;TZID=UTC:20191009T083000
DTSTAMP:20260425T112142
CREATED:20190802T202446Z
LAST-MODIFIED:20190802T202446Z
UID:1317-1570608000-1570609800@www.williamsburgmontessori.org
SUMMARY:Upper Elementary Drop In
DESCRIPTION:
URL:https://www.williamsburgmontessori.org/calendar/upper-elementary-drop-in/
END:VEVENT
BEGIN:VEVENT
DTSTART;TZID=UTC:20191004T080000
DTEND;TZID=UTC:20191004T170000
DTSTAMP:20260425T112142
CREATED:20190712T151829Z
LAST-MODIFIED:20190712T151829Z
UID:1253-1570176000-1570208400@www.williamsburgmontessori.org
SUMMARY:School Closed - Professional Day
DESCRIPTION:
URL:https://www.williamsburgmontessori.org/calendar/school-closed-professional-day/
END:VEVENT
BEGIN:VEVENT
DTSTART;TZID=UTC:20191002T080000
DTEND;TZID=UTC:20191002T083000
DTSTAMP:20260425T112142
CREATED:20190802T202358Z
LAST-MODIFIED:20190802T202358Z
UID:1315-1570003200-1570005000@www.williamsburgmontessori.org
SUMMARY:Lower Elementary Drop In
DESCRIPTION:
URL:https://www.williamsburgmontessori.org/calendar/lower-elementary-drop-in/
END:VEVENT
BEGIN:VEVENT
DTSTART;TZID=UTC:20190926T080000
DTEND;TZID=UTC:20190926T170000
DTSTAMP:20260425T112142
CREATED:20190802T202220Z
LAST-MODIFIED:20190802T202220Z
UID:1313-1569484800-1569517200@www.williamsburgmontessori.org
SUMMARY:Coffee with Head of School & Educational Director
DESCRIPTION:
URL:https://www.williamsburgmontessori.org/calendar/coffee-with-head-of-school-educational-director/
END:VEVENT
BEGIN:VEVENT
DTSTART;TZID=UTC:20190912T183000
DTEND;TZID=UTC:20190912T183000
DTSTAMP:20260425T112142
CREATED:20190802T202105Z
LAST-MODIFIED:20190802T202105Z
UID:1311-1568313000-1568313000@www.williamsburgmontessori.org
SUMMARY:LE Orientation
DESCRIPTION:
URL:https://www.williamsburgmontessori.org/calendar/le-orientation/
END:VEVENT
BEGIN:VEVENT
DTSTART;TZID=UTC:20190912T183000
DTEND;TZID=UTC:20190912T183000
DTSTAMP:20260425T112142
CREATED:20190802T202041Z
LAST-MODIFIED:20190802T202041Z
UID:1309-1568313000-1568313000@www.williamsburgmontessori.org
SUMMARY:CH2 Orientation
DESCRIPTION:
URL:https://www.williamsburgmontessori.org/calendar/ch2-orientation/
END:VEVENT
BEGIN:VEVENT
DTSTART;TZID=UTC:20190911T183000
DTEND;TZID=UTC:20190911T183000
DTSTAMP:20260425T112142
CREATED:20190828T171741Z
LAST-MODIFIED:20190828T171741Z
UID:1354-1568226600-1568226600@www.williamsburgmontessori.org
SUMMARY:CH1 Orientation
DESCRIPTION:
URL:https://www.williamsburgmontessori.org/calendar/ch1-orientation-2/
END:VEVENT
BEGIN:VEVENT
DTSTART;TZID=UTC:20190911T183000
DTEND;TZID=UTC:20190911T183000
DTSTAMP:20260425T112142
CREATED:20190802T201947Z
LAST-MODIFIED:20190802T201947Z
UID:1306-1568226600-1568226600@www.williamsburgmontessori.org
SUMMARY:UEL Orientation
DESCRIPTION:
URL:https://www.williamsburgmontessori.org/calendar/ch1-orientation/
END:VEVENT
BEGIN:VEVENT
DTSTART;TZID=UTC:20190910T183000
DTEND;TZID=UTC:20190910T183000
DTSTAMP:20260425T112142
CREATED:20190802T201918Z
LAST-MODIFIED:20190802T201918Z
UID:1304-1568140200-1568140200@www.williamsburgmontessori.org
SUMMARY:CH3 Orientation
DESCRIPTION:
URL:https://www.williamsburgmontessori.org/calendar/ch3-orientation/
END:VEVENT
BEGIN:VEVENT
DTSTART;TZID=UTC:20190905T183000
DTEND;TZID=UTC:20190905T183000
DTSTAMP:20260425T112142
CREATED:20190802T201842Z
LAST-MODIFIED:20190802T201842Z
UID:1302-1567708200-1567708200@www.williamsburgmontessori.org
SUMMARY:Middle School Orientation
DESCRIPTION:
URL:https://www.williamsburgmontessori.org/calendar/middle-school-orientation/
END:VEVENT
BEGIN:VEVENT
DTSTART;TZID=UTC:20190905T183000
DTEND;TZID=UTC:20190905T183000
DTSTAMP:20260425T112142
CREATED:20190802T201818Z
LAST-MODIFIED:20190802T201818Z
UID:1300-1567708200-1567708200@www.williamsburgmontessori.org
SUMMARY:Toddler Orientation
DESCRIPTION:
URL:https://www.williamsburgmontessori.org/calendar/toddler-orientation/
END:VEVENT
BEGIN:VEVENT
DTSTART;TZID=UTC:20190903T080000
DTEND;TZID=UTC:20190903T170000
DTSTAMP:20260425T112142
CREATED:20190712T151502Z
LAST-MODIFIED:20190712T151502Z
UID:1251-1567497600-1567530000@www.williamsburgmontessori.org
SUMMARY:School Begins
DESCRIPTION:Phase-In schedule this week for new Toddlers plus Rising & New CH Students
URL:https://www.williamsburgmontessori.org/calendar/school-begins-2/
END:VEVENT
BEGIN:VEVENT
DTSTART;TZID=UTC:20190902T080000
DTEND;TZID=UTC:20190902T170000
DTSTAMP:20260425T112142
CREATED:20190712T151359Z
LAST-MODIFIED:20190712T151359Z
UID:1249-1567411200-1567443600@www.williamsburgmontessori.org
SUMMARY:School Closed for Labor Day
DESCRIPTION:
URL:https://www.williamsburgmontessori.org/calendar/school-closed-for-labor-day-2/
END:VEVENT
BEGIN:VEVENT
DTSTART;TZID=UTC:20190830T090000
DTEND;TZID=UTC:20190830T130000
DTSTAMP:20260425T112142
CREATED:20190712T151253Z
LAST-MODIFIED:20190712T151253Z
UID:1246-1567155600-1567170000@www.williamsburgmontessori.org
SUMMARY:Sixth Year Leadership Conference
DESCRIPTION:
URL:https://www.williamsburgmontessori.org/calendar/sixth-year-leadership-conference-2/
END:VEVENT
BEGIN:VEVENT
DTSTART;TZID=UTC:20190830T090000
DTEND;TZID=UTC:20190830T120000
DTSTAMP:20260425T112142
CREATED:20190712T151203Z
LAST-MODIFIED:20190712T151203Z
UID:1244-1567155600-1567166400@www.williamsburgmontessori.org
SUMMARY:Third Year Leadership Conference
DESCRIPTION:
URL:https://www.williamsburgmontessori.org/calendar/third-year-leadership-conference-2/
END:VEVENT
BEGIN:VEVENT
DTSTART;TZID=UTC:20190830T090000
DTEND;TZID=UTC:20190830T103000
DTSTAMP:20260425T112142
CREATED:20190828T170423Z
LAST-MODIFIED:20190828T170423Z
UID:1351-1567155600-1567161000@www.williamsburgmontessori.org
SUMMARY:Orientation for New Children's House Students
DESCRIPTION:
URL:https://www.williamsburgmontessori.org/calendar/orientation-for-new-childrens-house-students-2/
END:VEVENT
BEGIN:VEVENT
DTSTART;TZID=UTC:20190829T100000
DTEND;TZID=UTC:20190829T120000
DTSTAMP:20260425T112142
CREATED:20190712T151104Z
LAST-MODIFIED:20190712T151104Z
UID:1242-1567072800-1567080000@www.williamsburgmontessori.org
SUMMARY:Eight Grade Leadership Conference
DESCRIPTION:
URL:https://www.williamsburgmontessori.org/calendar/eight-grade-leadership-conference/
END:VEVENT
BEGIN:VEVENT
DTSTART;TZID=UTC:20190826T080000
DTEND;TZID=UTC:20190830T170000
DTSTAMP:20260425T112142
CREATED:20190712T150940Z
LAST-MODIFIED:20190712T150940Z
UID:1240-1566806400-1567184400@www.williamsburgmontessori.org
SUMMARY:Staff Professional Days
DESCRIPTION:
URL:https://www.williamsburgmontessori.org/calendar/staff-professional-days-2/
END:VEVENT
BEGIN:VEVENT
DTSTART;TZID=UTC:20190809T080000
DTEND;TZID=UTC:20190809T170000
DTSTAMP:20260425T112142
CREATED:20180619T201052Z
LAST-MODIFIED:20180619T201052Z
UID:947-1565337600-1565370000@www.williamsburgmontessori.org
SUMMARY:Last Day of Summer Session
DESCRIPTION:
URL:https://www.williamsburgmontessori.org/calendar/last-day-of-summer-session/
END:VEVENT
BEGIN:VEVENT
DTSTART;TZID=UTC:20190802T080000
DTEND;TZID=UTC:20190802T083000
DTSTAMP:20260425T112142
CREATED:20190802T203942Z
LAST-MODIFIED:20190802T203942Z
UID:1345-1564732800-1564734600@www.williamsburgmontessori.org
SUMMARY:Lower Elementary Drop In
DESCRIPTION:
URL:https://www.williamsburgmontessori.org/calendar/lower-elementary-drop-in-4/
END:VEVENT
BEGIN:VEVENT
DTSTART;TZID=UTC:20190704T080000
DTEND;TZID=UTC:20190704T170000
DTSTAMP:20260425T112142
CREATED:20180619T201009Z
LAST-MODIFIED:20180619T201009Z
UID:945-1562227200-1562259600@www.williamsburgmontessori.org
SUMMARY:School Closed for Independence Day
DESCRIPTION:
URL:https://www.williamsburgmontessori.org/calendar/school-closed-for-independence-day-2/
END:VEVENT
BEGIN:VEVENT
DTSTART;TZID=UTC:20190617T080000
DTEND;TZID=UTC:20190617T170000
DTSTAMP:20260425T112142
CREATED:20180619T200915Z
LAST-MODIFIED:20180619T200915Z
UID:943-1560758400-1560790800@www.williamsburgmontessori.org
SUMMARY:Summer Session Begins
DESCRIPTION:
URL:https://www.williamsburgmontessori.org/calendar/summer-session-begins-2/
END:VEVENT
END:VCALENDAR