BEGIN:VCALENDAR
VERSION:2.0
PRODID:-//Williamsburg Montessori School - ECPv6.15.20//NONSGML v1.0//EN
CALSCALE:GREGORIAN
METHOD:PUBLISH
X-WR-CALNAME:Williamsburg Montessori School
X-ORIGINAL-URL:https://www.williamsburgmontessori.org
X-WR-CALDESC:Events for Williamsburg Montessori School
REFRESH-INTERVAL;VALUE=DURATION:PT1H
X-Robots-Tag:noindex
X-PUBLISHED-TTL:PT1H
BEGIN:VTIMEZONE
TZID:UTC
BEGIN:STANDARD
TZOFFSETFROM:+0000
TZOFFSETTO:+0000
TZNAME:UTC
DTSTART:20190101T000000
END:STANDARD
END:VTIMEZONE
BEGIN:VEVENT
DTSTART;TZID=UTC:20210118T080000
DTEND;TZID=UTC:20210118T170000
DTSTAMP:20260425T135647
CREATED:20200807T202810Z
LAST-MODIFIED:20200807T202810Z
UID:1738-1610956800-1610989200@www.williamsburgmontessori.org
SUMMARY:School Closed for M.L. King Jr. Day
DESCRIPTION:
URL:https://www.williamsburgmontessori.org/calendar/school-closed-for-m-l-king-jr-day/
END:VEVENT
BEGIN:VEVENT
DTSTART;TZID=UTC:20210104T080000
DTEND;TZID=UTC:20210104T170000
DTSTAMP:20260425T135647
CREATED:20200807T202723Z
LAST-MODIFIED:20200807T202723Z
UID:1736-1609747200-1609779600@www.williamsburgmontessori.org
SUMMARY:School Reopens
DESCRIPTION:
URL:https://www.williamsburgmontessori.org/calendar/school-reopens-4/
END:VEVENT
BEGIN:VEVENT
DTSTART;TZID=UTC:20201221T080000
DTEND;TZID=UTC:20210103T170000
DTSTAMP:20260425T135647
CREATED:20200807T202605Z
LAST-MODIFIED:20200807T202605Z
UID:1734-1608537600-1609693200@www.williamsburgmontessori.org
SUMMARY:Winter Break Begins
DESCRIPTION:
URL:https://www.williamsburgmontessori.org/calendar/winter-break-begins-3/
END:VEVENT
BEGIN:VEVENT
DTSTART;TZID=UTC:20201125T080000
DTEND;TZID=UTC:20201127T170000
DTSTAMP:20260425T135647
CREATED:20200807T202509Z
LAST-MODIFIED:20200807T202509Z
UID:1732-1606291200-1606496400@www.williamsburgmontessori.org
SUMMARY:School Closed for Thanksgiving
DESCRIPTION:
URL:https://www.williamsburgmontessori.org/calendar/school-closed-for-thanksgiving-2/
END:VEVENT
BEGIN:VEVENT
DTSTART;TZID=UTC:20201123T080000
DTEND;TZID=UTC:20201124T170000
DTSTAMP:20260425T135647
CREATED:20200807T202430Z
LAST-MODIFIED:20200807T202430Z
UID:1730-1606118400-1606237200@www.williamsburgmontessori.org
SUMMARY:School Closed for Parent Teacher Conferences
DESCRIPTION:
URL:https://www.williamsburgmontessori.org/calendar/school-closed-for-parent-teacher-conferences-5/
END:VEVENT
BEGIN:VEVENT
DTSTART;TZID=UTC:20201116T080000
DTEND;TZID=UTC:20201118T170000
DTSTAMP:20260425T135647
CREATED:20200807T202342Z
LAST-MODIFIED:20200807T202342Z
UID:1728-1605513600-1605718800@www.williamsburgmontessori.org
SUMMARY:CH Parent Child Visits (after school)
DESCRIPTION:
URL:https://www.williamsburgmontessori.org/calendar/ch-parent-child-visits-after-school-3/
END:VEVENT
BEGIN:VEVENT
DTSTART;TZID=UTC:20201112T180000
DTEND;TZID=UTC:20201112T190000
DTSTAMP:20260425T135647
CREATED:20201029T030837Z
LAST-MODIFIED:20201029T030837Z
UID:1838-1605204000-1605207600@www.williamsburgmontessori.org
SUMMARY:CH3 Parent Education Night
DESCRIPTION:
URL:https://www.williamsburgmontessori.org/calendar/ch3-parent-education-night/
END:VEVENT
BEGIN:VEVENT
DTSTART;TZID=UTC:20201111T180000
DTEND;TZID=UTC:20201111T190000
DTSTAMP:20260425T135647
CREATED:20201029T030610Z
LAST-MODIFIED:20201029T030610Z
UID:1836-1605117600-1605121200@www.williamsburgmontessori.org
SUMMARY:CH1 Parent Education Night
DESCRIPTION:
URL:https://www.williamsburgmontessori.org/calendar/ch1-parent-education-night/
END:VEVENT
BEGIN:VEVENT
DTSTART;TZID=UTC:20201110T180000
DTEND;TZID=UTC:20201110T190000
DTSTAMP:20260425T135647
CREATED:20201029T025718Z
LAST-MODIFIED:20201029T025718Z
UID:1834-1605031200-1605034800@www.williamsburgmontessori.org
SUMMARY:CH 2 Parent Education Night
DESCRIPTION:
URL:https://www.williamsburgmontessori.org/calendar/ch-2-parent-education-night/
END:VEVENT
BEGIN:VEVENT
DTSTART;TZID=UTC:20201103T080000
DTEND;TZID=UTC:20201103T170000
DTSTAMP:20260425T135647
CREATED:20200807T202128Z
LAST-MODIFIED:20200807T202128Z
UID:1726-1604390400-1604422800@www.williamsburgmontessori.org
SUMMARY:School Closed for Professional Day
DESCRIPTION:
URL:https://www.williamsburgmontessori.org/calendar/school-closed-for-professional-day-8/
END:VEVENT
BEGIN:VEVENT
DTSTART;TZID=UTC:20201009T080000
DTEND;TZID=UTC:20201009T170000
DTSTAMP:20260425T135647
CREATED:20200807T202042Z
LAST-MODIFIED:20200807T202042Z
UID:1724-1602230400-1602262800@www.williamsburgmontessori.org
SUMMARY:School Closed for Professional Day
DESCRIPTION:
URL:https://www.williamsburgmontessori.org/calendar/school-closed-for-professional-day-7/
END:VEVENT
BEGIN:VEVENT
DTSTART;TZID=UTC:20200908T080000
DTEND;TZID=UTC:20200908T170000
DTSTAMP:20260425T135647
CREATED:20200807T201950Z
LAST-MODIFIED:20200807T201950Z
UID:1722-1599552000-1599584400@www.williamsburgmontessori.org
SUMMARY:School Begins
DESCRIPTION:Phase-In Schedule this week for new Toddlers plus Rising & New CH Students
URL:https://www.williamsburgmontessori.org/calendar/school-begins-3/
END:VEVENT
BEGIN:VEVENT
DTSTART;TZID=UTC:20200907T080000
DTEND;TZID=UTC:20200907T170000
DTSTAMP:20260425T135647
CREATED:20200807T195948Z
LAST-MODIFIED:20200807T195948Z
UID:1720-1599465600-1599498000@www.williamsburgmontessori.org
SUMMARY:School Closed for Labor Day
DESCRIPTION:
URL:https://www.williamsburgmontessori.org/calendar/school-closed-for-labor-day-3/
END:VEVENT
BEGIN:VEVENT
DTSTART;TZID=UTC:20200904T090000
DTEND;TZID=UTC:20200904T130000
DTSTAMP:20260425T135647
CREATED:20200807T195754Z
LAST-MODIFIED:20200807T195754Z
UID:1718-1599210000-1599224400@www.williamsburgmontessori.org
SUMMARY:Sixth Year Leadership Conference
DESCRIPTION:
URL:https://www.williamsburgmontessori.org/calendar/sixth-year-leadership-conference-3/
END:VEVENT
BEGIN:VEVENT
DTSTART;TZID=UTC:20200904T090000
DTEND;TZID=UTC:20200904T120000
DTSTAMP:20260425T135647
CREATED:20200807T192925Z
LAST-MODIFIED:20200807T192925Z
UID:1716-1599210000-1599220800@www.williamsburgmontessori.org
SUMMARY:Third Year Leadership Conference
DESCRIPTION:
URL:https://www.williamsburgmontessori.org/calendar/third-year-leadership-conference-3/
END:VEVENT
BEGIN:VEVENT
DTSTART;TZID=UTC:20200904T090000
DTEND;TZID=UTC:20200904T103000
DTSTAMP:20260425T135647
CREATED:20200807T192803Z
LAST-MODIFIED:20200807T192803Z
UID:1714-1599210000-1599215400@www.williamsburgmontessori.org
SUMMARY:Orientation for New Children's House Students
DESCRIPTION:
URL:https://www.williamsburgmontessori.org/calendar/orientation-for-new-childrens-house-students-3/
END:VEVENT
BEGIN:VEVENT
DTSTART;TZID=UTC:20200903T100000
DTEND;TZID=UTC:20200903T123000
DTSTAMP:20260425T135647
CREATED:20200807T192604Z
LAST-MODIFIED:20200807T192604Z
UID:1712-1599127200-1599136200@www.williamsburgmontessori.org
SUMMARY:Eighth Grade Leadership Conference
DESCRIPTION:
URL:https://www.williamsburgmontessori.org/calendar/eighth-grade-leadership-conference/
END:VEVENT
BEGIN:VEVENT
DTSTART;TZID=UTC:20200831T080000
DTEND;TZID=UTC:20200904T170000
DTSTAMP:20260425T135647
CREATED:20200807T192334Z
LAST-MODIFIED:20200807T192334Z
UID:1710-1598860800-1599238800@www.williamsburgmontessori.org
SUMMARY:Staff Professional Days
DESCRIPTION:
URL:https://www.williamsburgmontessori.org/calendar/staff-professional-days-3/
END:VEVENT
BEGIN:VEVENT
DTSTART;TZID=UTC:20200807T080000
DTEND;TZID=UTC:20200807T170000
DTSTAMP:20260425T135647
CREATED:20190712T160645Z
LAST-MODIFIED:20190712T160645Z
UID:1293-1596787200-1596819600@www.williamsburgmontessori.org
SUMMARY:Last Day of Summer Session
DESCRIPTION:
URL:https://www.williamsburgmontessori.org/calendar/last-day-of-summer-session-2/
END:VEVENT
BEGIN:VEVENT
DTSTART;TZID=UTC:20200703T080000
DTEND;TZID=UTC:20200703T170000
DTSTAMP:20260425T135647
CREATED:20190712T160515Z
LAST-MODIFIED:20190712T160515Z
UID:1291-1593763200-1593795600@www.williamsburgmontessori.org
SUMMARY:School Closed for Independence Day
DESCRIPTION:
URL:https://www.williamsburgmontessori.org/calendar/school-closed-for-independence-day-3/
END:VEVENT
BEGIN:VEVENT
DTSTART;TZID=UTC:20200608T080000
DTEND;TZID=UTC:20200612T170000
DTSTAMP:20260425T135647
CREATED:20190712T160349Z
LAST-MODIFIED:20190712T160349Z
UID:1289-1591603200-1591981200@www.williamsburgmontessori.org
SUMMARY:School Closed for Facility Maintenance
DESCRIPTION:
URL:https://www.williamsburgmontessori.org/calendar/school-closed-for-facility-maintenance-3/
END:VEVENT
BEGIN:VEVENT
DTSTART;TZID=UTC:20200605T120000
DTEND;TZID=UTC:20200605T120000
DTSTAMP:20260425T135647
CREATED:20200303T183347Z
LAST-MODIFIED:20200303T183347Z
UID:1503-1591358400-1591358400@www.williamsburgmontessori.org
SUMMARY:Last Day of School - Noon Dismissal
DESCRIPTION:
URL:https://www.williamsburgmontessori.org/calendar/last-day-of-school-noon-dismissal/
END:VEVENT
BEGIN:VEVENT
DTSTART;TZID=UTC:20200604T180000
DTEND;TZID=UTC:20200604T190000
DTSTAMP:20260425T135647
CREATED:20190712T160210Z
LAST-MODIFIED:20190712T160210Z
UID:1287-1591293600-1591297200@www.williamsburgmontessori.org
SUMMARY:Closing Ceremony
DESCRIPTION:
URL:https://www.williamsburgmontessori.org/calendar/closing-ceremony-3/
END:VEVENT
BEGIN:VEVENT
DTSTART;TZID=UTC:20200531T160000
DTEND;TZID=UTC:20200531T190000
DTSTAMP:20260425T135647
CREATED:20200326T163330Z
LAST-MODIFIED:20200326T163330Z
UID:1555-1590940800-1590951600@www.williamsburgmontessori.org
SUMMARY:Boots & Bling: A Barn Raising Good Time Annual Gala
DESCRIPTION:
URL:https://www.williamsburgmontessori.org/calendar/boots-bling-a-barn-raising-good-time-spring-gala/
ATTACH;FMTTYPE=:
END:VEVENT
BEGIN:VEVENT
DTSTART;TZID=UTC:20200525T080000
DTEND;TZID=UTC:20200525T170000
DTSTAMP:20260425T135647
CREATED:20190712T160058Z
LAST-MODIFIED:20190712T160058Z
UID:1285-1590393600-1590426000@www.williamsburgmontessori.org
SUMMARY:School Closed for Memorial Day
DESCRIPTION:
URL:https://www.williamsburgmontessori.org/calendar/school-closed-for-memorial-day-3/
END:VEVENT
BEGIN:VEVENT
DTSTART;TZID=UTC:20200507T080000
DTEND;TZID=UTC:20200508T170000
DTSTAMP:20260425T135647
CREATED:20190712T160008Z
LAST-MODIFIED:20190712T160008Z
UID:1283-1588838400-1588957200@www.williamsburgmontessori.org
SUMMARY:School Closed for Parent Teacher Conferences
DESCRIPTION:
URL:https://www.williamsburgmontessori.org/calendar/school-closed-for-parent-teacher-conferences-4/
END:VEVENT
BEGIN:VEVENT
DTSTART;TZID=UTC:20200427T080000
DTEND;TZID=UTC:20200429T170000
DTSTAMP:20260425T135647
CREATED:20190712T155905Z
LAST-MODIFIED:20190712T155905Z
UID:1281-1587974400-1588179600@www.williamsburgmontessori.org
SUMMARY:CH Parent Child Visits (after school)
DESCRIPTION:
URL:https://www.williamsburgmontessori.org/calendar/ch-parent-child-visits-after-school-2/
END:VEVENT
BEGIN:VEVENT
DTSTART;TZID=UTC:20200414T080000
DTEND;TZID=UTC:20200414T170000
DTSTAMP:20260425T135647
CREATED:20190712T155802Z
LAST-MODIFIED:20190712T155802Z
UID:1279-1586851200-1586883600@www.williamsburgmontessori.org
SUMMARY:School Re-opens
DESCRIPTION:
URL:https://www.williamsburgmontessori.org/calendar/school-re-opens/
END:VEVENT
BEGIN:VEVENT
DTSTART;TZID=UTC:20200413T080000
DTEND;TZID=UTC:20200413T170000
DTSTAMP:20260425T135647
CREATED:20190712T155723Z
LAST-MODIFIED:20190712T155723Z
UID:1277-1586764800-1586797200@www.williamsburgmontessori.org
SUMMARY:School Closed for Professional Day
DESCRIPTION:
URL:https://www.williamsburgmontessori.org/calendar/school-closed-for-professional-day-6/
END:VEVENT
BEGIN:VEVENT
DTSTART;TZID=UTC:20200412T080000
DTEND;TZID=UTC:20200412T170000
DTSTAMP:20260425T135647
CREATED:20200807T203529Z
LAST-MODIFIED:20200807T203529Z
UID:1750-1586678400-1586710800@www.williamsburgmontessori.org
SUMMARY:School Closed for Professional Day
DESCRIPTION:
URL:https://www.williamsburgmontessori.org/calendar/school-closed-for-professional-day-10/
END:VEVENT
END:VCALENDAR