BEGIN:VCALENDAR
VERSION:2.0
PRODID:-//Williamsburg Montessori School - ECPv6.15.20//NONSGML v1.0//EN
CALSCALE:GREGORIAN
METHOD:PUBLISH
X-WR-CALNAME:Williamsburg Montessori School
X-ORIGINAL-URL:https://www.williamsburgmontessori.org
X-WR-CALDESC:Events for Williamsburg Montessori School
REFRESH-INTERVAL;VALUE=DURATION:PT1H
X-Robots-Tag:noindex
X-PUBLISHED-TTL:PT1H
BEGIN:VTIMEZONE
TZID:UTC
BEGIN:STANDARD
TZOFFSETFROM:+0000
TZOFFSETTO:+0000
TZNAME:UTC
DTSTART:20200101T000000
END:STANDARD
END:VTIMEZONE
BEGIN:VEVENT
DTSTART;VALUE=DATE:20211008
DTEND;VALUE=DATE:20211009
DTSTAMP:20260425T124022
CREATED:20210705T102554Z
LAST-MODIFIED:20210705T102554Z
UID:1985-1633651200-1633737599@www.williamsburgmontessori.org
SUMMARY:School Closed for Professional Day
DESCRIPTION:
URL:https://www.williamsburgmontessori.org/calendar/school-closed-for-professional-day-12/
END:VEVENT
BEGIN:VEVENT
DTSTART;VALUE=DATE:20210908
DTEND;VALUE=DATE:20210909
DTSTAMP:20260425T124022
CREATED:20210705T102512Z
LAST-MODIFIED:20210705T102512Z
UID:1983-1631059200-1631145599@www.williamsburgmontessori.org
SUMMARY:School Begins
DESCRIPTION:Phase-in Schedule this week for new Toddlers plus Rising & New CH Students
URL:https://www.williamsburgmontessori.org/calendar/school-begins-4/
END:VEVENT
BEGIN:VEVENT
DTSTART;VALUE=DATE:20210907
DTEND;VALUE=DATE:20210908
DTSTAMP:20260425T124022
CREATED:20210705T102404Z
LAST-MODIFIED:20210705T102404Z
UID:1981-1630972800-1631059199@www.williamsburgmontessori.org
SUMMARY:Teacher In-Service Day
DESCRIPTION:
URL:https://www.williamsburgmontessori.org/calendar/teacher-in-service-day/
END:VEVENT
BEGIN:VEVENT
DTSTART;VALUE=DATE:20210906
DTEND;VALUE=DATE:20210907
DTSTAMP:20260425T124022
CREATED:20210705T102318Z
LAST-MODIFIED:20210705T102318Z
UID:1979-1630886400-1630972799@www.williamsburgmontessori.org
SUMMARY:School Closed for Labor Day
DESCRIPTION:
URL:https://www.williamsburgmontessori.org/calendar/school-closed-for-labor-day-4/
END:VEVENT
BEGIN:VEVENT
DTSTART;TZID=UTC:20210903T100000
DTEND;TZID=UTC:20210903T123000
DTSTAMP:20260425T124022
CREATED:20210705T101419Z
LAST-MODIFIED:20210705T101419Z
UID:1973-1630663200-1630672200@www.williamsburgmontessori.org
SUMMARY:Eighth Grade Leadership Conference
DESCRIPTION:
URL:https://www.williamsburgmontessori.org/calendar/eighth-grade-leadership-conference-2/
END:VEVENT
BEGIN:VEVENT
DTSTART;TZID=UTC:20210903T093000
DTEND;TZID=UTC:20210903T093000
DTSTAMP:20260425T124022
CREATED:20210705T101605Z
LAST-MODIFIED:20210705T101605Z
UID:1975-1630661400-1630661400@www.williamsburgmontessori.org
SUMMARY:Orientation for New Children's House Students
DESCRIPTION:
URL:https://www.williamsburgmontessori.org/calendar/orientation-for-new-childrens-house-students-4/
END:VEVENT
BEGIN:VEVENT
DTSTART;TZID=UTC:20210903T090000
DTEND;TZID=UTC:20210903T110000
DTSTAMP:20260425T124022
CREATED:20210705T102212Z
LAST-MODIFIED:20210705T102212Z
UID:1977-1630659600-1630666800@www.williamsburgmontessori.org
SUMMARY:Sixth Year Leadership Conference
DESCRIPTION:
URL:https://www.williamsburgmontessori.org/calendar/sixth-year-leadership-conference-4/
END:VEVENT
BEGIN:VEVENT
DTSTART;TZID=UTC:20210830T080000
DTEND;TZID=UTC:20210903T170000
DTSTAMP:20260425T124022
CREATED:20210705T101242Z
LAST-MODIFIED:20210705T101242Z
UID:1971-1630310400-1630688400@www.williamsburgmontessori.org
SUMMARY:Staff Professional Days
DESCRIPTION:
URL:https://www.williamsburgmontessori.org/calendar/staff-professional-days-4/
END:VEVENT
BEGIN:VEVENT
DTSTART;TZID=UTC:20210816T080000
DTEND;TZID=UTC:20210820T170000
DTSTAMP:20260425T124022
CREATED:20200807T204720Z
LAST-MODIFIED:20200807T204720Z
UID:1770-1629100800-1629478800@www.williamsburgmontessori.org
SUMMARY:Optional Add-on Week of Camp for CH
DESCRIPTION:
URL:https://www.williamsburgmontessori.org/calendar/optional-add-on-week-of-camp-for-ch/
END:VEVENT
BEGIN:VEVENT
DTSTART;TZID=UTC:20210813T080000
DTEND;TZID=UTC:20210813T170000
DTSTAMP:20260425T124022
CREATED:20200807T204633Z
LAST-MODIFIED:20200807T204633Z
UID:1768-1628841600-1628874000@www.williamsburgmontessori.org
SUMMARY:Last Day of Summer Session
DESCRIPTION:
URL:https://www.williamsburgmontessori.org/calendar/last-day-of-summer-session-3/
END:VEVENT
BEGIN:VEVENT
DTSTART;TZID=UTC:20210705T080000
DTEND;TZID=UTC:20210705T170000
DTSTAMP:20260425T124022
CREATED:20200807T204552Z
LAST-MODIFIED:20200807T204552Z
UID:1766-1625472000-1625504400@www.williamsburgmontessori.org
SUMMARY:School Closed for Independence Day
DESCRIPTION:
URL:https://www.williamsburgmontessori.org/calendar/school-closed-for-independence-day-4/
END:VEVENT
BEGIN:VEVENT
DTSTART;TZID=UTC:20210621T080000
DTEND;TZID=UTC:20210621T170000
DTSTAMP:20260425T124022
CREATED:20200807T204449Z
LAST-MODIFIED:20200807T204449Z
UID:1764-1624262400-1624294800@www.williamsburgmontessori.org
SUMMARY:Summer Session Begins
DESCRIPTION:
URL:https://www.williamsburgmontessori.org/calendar/summer-session-begins-3/
END:VEVENT
BEGIN:VEVENT
DTSTART;VALUE=DATE:20210614
DTEND;VALUE=DATE:20210619
DTSTAMP:20260425T124022
CREATED:20200925T143240Z
LAST-MODIFIED:20200925T143240Z
UID:1799-1623628800-1624060799@www.williamsburgmontessori.org
SUMMARY:School Closed for Facility Maintenance
DESCRIPTION:
URL:https://www.williamsburgmontessori.org/calendar/school-closed-for-facility-maintenance-4/
END:VEVENT
BEGIN:VEVENT
DTSTART;VALUE=DATE:20210614
DTEND;VALUE=DATE:20210619
DTSTAMP:20260425T124022
CREATED:20200925T142348Z
LAST-MODIFIED:20200925T142348Z
UID:1797-1623628800-1624060799@www.williamsburgmontessori.org
SUMMARY:School Closed for Facility Maintenance
DESCRIPTION:
URL:https://www.williamsburgmontessori.org/calendar/school-closed-for-facility-maintenance-5/
END:VEVENT
BEGIN:VEVENT
DTSTART;TZID=UTC:20210611T080000
DTEND;TZID=UTC:20210611T170000
DTSTAMP:20260425T124022
CREATED:20210604T035003Z
LAST-MODIFIED:20210604T035003Z
UID:1966-1623398400-1623430800@www.williamsburgmontessori.org
SUMMARY:Middle School Final Day at the River
DESCRIPTION:
URL:https://www.williamsburgmontessori.org/calendar/middle-school-final-day-at-the-river/
END:VEVENT
BEGIN:VEVENT
DTSTART;TZID=UTC:20210611T080000
DTEND;TZID=UTC:20210611T170000
DTSTAMP:20260425T124022
CREATED:20210604T034928Z
LAST-MODIFIED:20210604T034928Z
UID:1964-1623398400-1623430800@www.williamsburgmontessori.org
SUMMARY:CH2 Field Trip
DESCRIPTION:
URL:https://www.williamsburgmontessori.org/calendar/ch2-field-trip/
END:VEVENT
BEGIN:VEVENT
DTSTART;TZID=UTC:20210611T080000
DTEND;TZID=UTC:20210611T170000
DTSTAMP:20260425T124022
CREATED:20210604T034844Z
LAST-MODIFIED:20210604T034844Z
UID:1961-1623398400-1623430800@www.williamsburgmontessori.org
SUMMARY:CH3 Field Trip
DESCRIPTION:
URL:https://www.williamsburgmontessori.org/calendar/ch3-field-trip/
END:VEVENT
BEGIN:VEVENT
DTSTART;VALUE=DATE:20210611
DTEND;VALUE=DATE:20210612
DTSTAMP:20260425T124022
CREATED:20200807T204306Z
LAST-MODIFIED:20200807T204306Z
UID:1760-1623369600-1623455999@www.williamsburgmontessori.org
SUMMARY:Noon Dismissal | Last Day of School
DESCRIPTION:
URL:https://www.williamsburgmontessori.org/calendar/noon-dismissal-last-day-of-school-3/
END:VEVENT
BEGIN:VEVENT
DTSTART;TZID=UTC:20210610T080000
DTEND;TZID=UTC:20210610T170000
DTSTAMP:20260425T124022
CREATED:20210604T034816Z
LAST-MODIFIED:20210604T034816Z
UID:1959-1623312000-1623344400@www.williamsburgmontessori.org
SUMMARY:CH1 Kindergarten Graduation
DESCRIPTION:
URL:https://www.williamsburgmontessori.org/calendar/ch1-kindergarten-graduation/
END:VEVENT
BEGIN:VEVENT
DTSTART;TZID=UTC:20210610T080000
DTEND;TZID=UTC:20210610T170000
DTSTAMP:20260425T124022
CREATED:20210604T034738Z
LAST-MODIFIED:20210604T034738Z
UID:1957-1623312000-1623344400@www.williamsburgmontessori.org
SUMMARY:Middle School Closing Ceremony (pm)
DESCRIPTION:
URL:https://www.williamsburgmontessori.org/calendar/middle-school-closing-ceremony-pm/
END:VEVENT
BEGIN:VEVENT
DTSTART;TZID=UTC:20210610T080000
DTEND;TZID=UTC:20210610T170000
DTSTAMP:20260425T124022
CREATED:20210604T034705Z
LAST-MODIFIED:20210604T034705Z
UID:1955-1623312000-1623344400@www.williamsburgmontessori.org
SUMMARY:6th Year Pizza Party
DESCRIPTION:
URL:https://www.williamsburgmontessori.org/calendar/6th-year-pizza-party/
END:VEVENT
BEGIN:VEVENT
DTSTART;TZID=UTC:20210610T080000
DTEND;TZID=UTC:20210610T170000
DTSTAMP:20260425T124022
CREATED:20200807T204207Z
LAST-MODIFIED:20200807T204207Z
UID:1758-1623312000-1623344400@www.williamsburgmontessori.org
SUMMARY:Closing Ceremony
DESCRIPTION:
URL:https://www.williamsburgmontessori.org/calendar/closing-ceremony-4/
END:VEVENT
BEGIN:VEVENT
DTSTART;TZID=UTC:20210609T080000
DTEND;TZID=UTC:20210609T170000
DTSTAMP:20260425T124022
CREATED:20210604T034626Z
LAST-MODIFIED:20210604T034626Z
UID:1952-1623225600-1623258000@www.williamsburgmontessori.org
SUMMARY:LE Closing Ceremony
DESCRIPTION:
URL:https://www.williamsburgmontessori.org/calendar/le-closing-ceremony/
END:VEVENT
BEGIN:VEVENT
DTSTART;TZID=UTC:20210608T080000
DTEND;TZID=UTC:20210610T170000
DTSTAMP:20260425T124022
CREATED:20210604T034547Z
LAST-MODIFIED:20210604T034547Z
UID:1950-1623139200-1623344400@www.williamsburgmontessori.org
SUMMARY:Middle School Finals
DESCRIPTION:
URL:https://www.williamsburgmontessori.org/calendar/middle-school-finals/
END:VEVENT
BEGIN:VEVENT
DTSTART;TZID=UTC:20210608T080000
DTEND;TZID=UTC:20210610T170000
DTSTAMP:20260425T124022
CREATED:20210604T034520Z
LAST-MODIFIED:20210604T034520Z
UID:1947-1623139200-1623344400@www.williamsburgmontessori.org
SUMMARY:UE Presentations
DESCRIPTION:
URL:https://www.williamsburgmontessori.org/calendar/ue-presentations/
END:VEVENT
BEGIN:VEVENT
DTSTART;TZID=UTC:20210607T080000
DTEND;TZID=UTC:20210607T170000
DTSTAMP:20260425T124022
CREATED:20210604T034448Z
LAST-MODIFIED:20210604T034448Z
UID:1945-1623052800-1623085200@www.williamsburgmontessori.org
SUMMARY:Go Ape Field Trip
DESCRIPTION:
URL:https://www.williamsburgmontessori.org/calendar/go-ape-field-trip/
END:VEVENT
BEGIN:VEVENT
DTSTART;TZID=UTC:20210602T080000
DTEND;TZID=UTC:20210602T170000
DTSTAMP:20260425T124022
CREATED:20210604T034413Z
LAST-MODIFIED:20210604T034413Z
UID:1943-1622620800-1622653200@www.williamsburgmontessori.org
SUMMARY:Middle School trip to Machicomoco State Park
DESCRIPTION:
URL:https://www.williamsburgmontessori.org/calendar/middle-school-trip-to-machicomoco-state-park/
END:VEVENT
BEGIN:VEVENT
DTSTART;VALUE=DATE:20210601
DTEND;VALUE=DATE:20210602
DTSTAMP:20260425T124022
CREATED:20210604T034337Z
LAST-MODIFIED:20210604T034337Z
UID:1941-1622505600-1622591999@www.williamsburgmontessori.org
SUMMARY:UE end-of-the-year trip to the James River Association
DESCRIPTION:
URL:https://www.williamsburgmontessori.org/calendar/ue-end-of-the-year-trip-to-the-james-river-association/
END:VEVENT
BEGIN:VEVENT
DTSTART;TZID=UTC:20210531T080000
DTEND;TZID=UTC:20210531T170000
DTSTAMP:20260425T124022
CREATED:20200807T204119Z
LAST-MODIFIED:20200807T204119Z
UID:1756-1622448000-1622480400@www.williamsburgmontessori.org
SUMMARY:School Closed for Memorial Day
DESCRIPTION:
URL:https://www.williamsburgmontessori.org/calendar/school-closed-for-memorial-day-4/
END:VEVENT
BEGIN:VEVENT
DTSTART;TZID=UTC:20210506T080000
DTEND;TZID=UTC:20210507T170000
DTSTAMP:20260425T124022
CREATED:20200807T204002Z
LAST-MODIFIED:20200807T204002Z
UID:1754-1620288000-1620406800@www.williamsburgmontessori.org
SUMMARY:School Closed for Parent Teacher Conferences
DESCRIPTION:
URL:https://www.williamsburgmontessori.org/calendar/school-closed-for-parent-teacher-conferences-6/
END:VEVENT
END:VCALENDAR