BEGIN:VCALENDAR
VERSION:2.0
PRODID:-//Williamsburg Montessori School - ECPv6.15.20//NONSGML v1.0//EN
CALSCALE:GREGORIAN
METHOD:PUBLISH
X-WR-CALNAME:Williamsburg Montessori School
X-ORIGINAL-URL:https://www.williamsburgmontessori.org
X-WR-CALDESC:Events for Williamsburg Montessori School
REFRESH-INTERVAL;VALUE=DURATION:PT1H
X-Robots-Tag:noindex
X-PUBLISHED-TTL:PT1H
BEGIN:VTIMEZONE
TZID:UTC
BEGIN:STANDARD
TZOFFSETFROM:+0000
TZOFFSETTO:+0000
TZNAME:UTC
DTSTART:20200101T000000
END:STANDARD
END:VTIMEZONE
BEGIN:VEVENT
DTSTART;TZID=UTC:20220613T080000
DTEND;TZID=UTC:20220617T170000
DTSTAMP:20260425T164456
CREATED:20210705T114706Z
LAST-MODIFIED:20210705T114706Z
UID:2026-1655107200-1655485200@www.williamsburgmontessori.org
SUMMARY:School Closed for Facility Maintenance
DESCRIPTION:
URL:https://www.williamsburgmontessori.org/calendar/school-closed-for-facility-maintenance-6/
END:VEVENT
BEGIN:VEVENT
DTSTART;TZID=UTC:20220610T080000
DTEND;TZID=UTC:20220610T170000
DTSTAMP:20260425T164456
CREATED:20210705T114153Z
LAST-MODIFIED:20210705T114153Z
UID:2024-1654848000-1654880400@www.williamsburgmontessori.org
SUMMARY:Last Day of School (Noon Dismissal)
DESCRIPTION:
URL:https://www.williamsburgmontessori.org/calendar/last-day-of-school-noon-dismissal-2/
END:VEVENT
BEGIN:VEVENT
DTSTART;VALUE=DATE:20220609
DTEND;VALUE=DATE:20220610
DTSTAMP:20260425T164456
CREATED:20210705T113850Z
LAST-MODIFIED:20210705T113850Z
UID:2022-1654732800-1654732800@www.williamsburgmontessori.org
SUMMARY:Closing Ceremony
DESCRIPTION:
URL:https://www.williamsburgmontessori.org/calendar/closing-ceremony-5/
END:VEVENT
BEGIN:VEVENT
DTSTART;VALUE=DATE:20220530
DTEND;VALUE=DATE:20220531
DTSTAMP:20260425T164456
CREATED:20210705T113747Z
LAST-MODIFIED:20210705T113747Z
UID:2020-1653868800-1653868800@www.williamsburgmontessori.org
SUMMARY:School Closed for Memorial Day
DESCRIPTION:
URL:https://www.williamsburgmontessori.org/calendar/school-closed-for-memorial-day-5/
END:VEVENT
BEGIN:VEVENT
DTSTART;TZID=UTC:20220512T080000
DTEND;TZID=UTC:20220513T170000
DTSTAMP:20260425T164456
CREATED:20210705T113618Z
LAST-MODIFIED:20210705T113618Z
UID:2018-1652342400-1652461200@www.williamsburgmontessori.org
SUMMARY:School Closed for Parent Teacher Conferences
DESCRIPTION:
URL:https://www.williamsburgmontessori.org/calendar/school-closed-for-parent-teacher-conferences-7/
END:VEVENT
BEGIN:VEVENT
DTSTART;TZID=UTC:20220502T080000
DTEND;TZID=UTC:20220504T170000
DTSTAMP:20260425T164456
CREATED:20210705T113430Z
LAST-MODIFIED:20210705T113430Z
UID:2016-1651478400-1651683600@www.williamsburgmontessori.org
SUMMARY:CH Parent Child Visits (after school)
DESCRIPTION:
URL:https://www.williamsburgmontessori.org/calendar/ch-parent-child-visits-after-school-6/
END:VEVENT
BEGIN:VEVENT
DTSTART;VALUE=DATE:20220412
DTEND;VALUE=DATE:20220413
DTSTAMP:20260425T164456
CREATED:20210705T113334Z
LAST-MODIFIED:20210705T113334Z
UID:2014-1649721600-1649721600@www.williamsburgmontessori.org
SUMMARY:School Reopens
DESCRIPTION:
URL:https://www.williamsburgmontessori.org/calendar/school-reopens-6/
END:VEVENT
BEGIN:VEVENT
DTSTART;VALUE=DATE:20220411
DTEND;VALUE=DATE:20220412
DTSTAMP:20260425T164456
CREATED:20210705T113237Z
LAST-MODIFIED:20210705T113237Z
UID:2011-1649635200-1649635200@www.williamsburgmontessori.org
SUMMARY:School Closed for Professional Day
DESCRIPTION:
URL:https://www.williamsburgmontessori.org/calendar/school-closed-for-professional-day-15/
END:VEVENT
BEGIN:VEVENT
DTSTART;TZID=UTC:20220404T080000
DTEND;TZID=UTC:20220408T170000
DTSTAMP:20260425T164456
CREATED:20210705T113137Z
LAST-MODIFIED:20210705T113137Z
UID:2009-1649059200-1649437200@www.williamsburgmontessori.org
SUMMARY:School Closed for Spring Break
DESCRIPTION:
URL:https://www.williamsburgmontessori.org/calendar/school-closed-for-spring-break-4/
END:VEVENT
BEGIN:VEVENT
DTSTART;VALUE=DATE:20220401
DTEND;VALUE=DATE:20220402
DTSTAMP:20260425T164456
CREATED:20210705T113051Z
LAST-MODIFIED:20210705T113051Z
UID:2007-1648771200-1648771200@www.williamsburgmontessori.org
SUMMARY:Grandparent's Day Open House Noon Dismissal
DESCRIPTION:
URL:https://www.williamsburgmontessori.org/calendar/grandparents-day-open-house-noon-dismissal-4/
END:VEVENT
BEGIN:VEVENT
DTSTART;VALUE=DATE:20220311
DTEND;VALUE=DATE:20220312
DTSTAMP:20260425T164456
CREATED:20210705T112920Z
LAST-MODIFIED:20210705T112920Z
UID:2005-1646956800-1646956800@www.williamsburgmontessori.org
SUMMARY:School Closed for Professional Day
DESCRIPTION:
URL:https://www.williamsburgmontessori.org/calendar/school-closed-for-professional-day-14/
END:VEVENT
BEGIN:VEVENT
DTSTART;VALUE=DATE:20220221
DTEND;VALUE=DATE:20220222
DTSTAMP:20260425T164456
CREATED:20210705T112434Z
LAST-MODIFIED:20210705T112434Z
UID:2002-1645401600-1645401600@www.williamsburgmontessori.org
SUMMARY:School Closed for President's Day
DESCRIPTION:
URL:https://www.williamsburgmontessori.org/calendar/school-closed-for-presidents-day-4/
END:VEVENT
BEGIN:VEVENT
DTSTART;TZID=UTC:20220123T130000
DTEND;TZID=UTC:20220123T150000
DTSTAMP:20260425T164456
CREATED:20210705T112246Z
LAST-MODIFIED:20210705T112246Z
UID:2000-1642942800-1642950000@www.williamsburgmontessori.org
SUMMARY:Open House
DESCRIPTION:
URL:https://www.williamsburgmontessori.org/calendar/open-house-2/
END:VEVENT
BEGIN:VEVENT
DTSTART;VALUE=DATE:20220117
DTEND;VALUE=DATE:20220118
DTSTAMP:20260425T164456
CREATED:20210705T112050Z
LAST-MODIFIED:20210705T112050Z
UID:1998-1642377600-1642463999@www.williamsburgmontessori.org
SUMMARY:School Closed for ML King Day
DESCRIPTION:
URL:https://www.williamsburgmontessori.org/calendar/school-closed-for-ml-king-day-2/
END:VEVENT
BEGIN:VEVENT
DTSTART;TZID=UTC:20211220T080000
DTEND;TZID=UTC:20220102T170000
DTSTAMP:20260425T164456
CREATED:20210705T105049Z
LAST-MODIFIED:20210705T105049Z
UID:1996-1639987200-1641142800@www.williamsburgmontessori.org
SUMMARY:Winter Break Begins
DESCRIPTION:
URL:https://www.williamsburgmontessori.org/calendar/winter-break-begins-4/
END:VEVENT
BEGIN:VEVENT
DTSTART;TZID=UTC:20211124T080000
DTEND;TZID=UTC:20211128T170000
DTSTAMP:20260425T164456
CREATED:20210705T103045Z
LAST-MODIFIED:20210705T103045Z
UID:1994-1637740800-1638118800@www.williamsburgmontessori.org
SUMMARY:School Closed for Thanksgiving
DESCRIPTION:
URL:https://www.williamsburgmontessori.org/calendar/school-closed-for-thanksgiving-3/
END:VEVENT
BEGIN:VEVENT
DTSTART;TZID=UTC:20211122T080000
DTEND;TZID=UTC:20211123T170000
DTSTAMP:20260425T164456
CREATED:20210705T102919Z
LAST-MODIFIED:20210705T102919Z
UID:1991-1637568000-1637686800@www.williamsburgmontessori.org
SUMMARY:School Closed for Parent Teacher Conferences
DESCRIPTION:
URL:https://www.williamsburgmontessori.org/calendar/school-closed-for-parent-teacher-conference/
END:VEVENT
BEGIN:VEVENT
DTSTART;TZID=UTC:20211115T080000
DTEND;TZID=UTC:20211117T170000
DTSTAMP:20260425T164456
CREATED:20210705T102752Z
LAST-MODIFIED:20210705T102752Z
UID:1989-1636963200-1637168400@www.williamsburgmontessori.org
SUMMARY:CH Parent Child Visits (after school)
DESCRIPTION:
URL:https://www.williamsburgmontessori.org/calendar/ch-parent-child-visits-after-school-5/
END:VEVENT
BEGIN:VEVENT
DTSTART;VALUE=DATE:20211105
DTEND;VALUE=DATE:20211106
DTSTAMP:20260425T164456
CREATED:20210705T102648Z
LAST-MODIFIED:20210705T102648Z
UID:1987-1636070400-1636070400@www.williamsburgmontessori.org
SUMMARY:School Closed for Professional Day
DESCRIPTION:
URL:https://www.williamsburgmontessori.org/calendar/school-closed-for-professional-day-13/
END:VEVENT
BEGIN:VEVENT
DTSTART;VALUE=DATE:20211008
DTEND;VALUE=DATE:20211009
DTSTAMP:20260425T164456
CREATED:20210705T102554Z
LAST-MODIFIED:20210705T102554Z
UID:1985-1633651200-1633737599@www.williamsburgmontessori.org
SUMMARY:School Closed for Professional Day
DESCRIPTION:
URL:https://www.williamsburgmontessori.org/calendar/school-closed-for-professional-day-12/
END:VEVENT
BEGIN:VEVENT
DTSTART;VALUE=DATE:20210908
DTEND;VALUE=DATE:20210909
DTSTAMP:20260425T164456
CREATED:20210705T102512Z
LAST-MODIFIED:20210705T102512Z
UID:1983-1631059200-1631145599@www.williamsburgmontessori.org
SUMMARY:School Begins
DESCRIPTION:Phase-in Schedule this week for new Toddlers plus Rising & New CH Students
URL:https://www.williamsburgmontessori.org/calendar/school-begins-4/
END:VEVENT
BEGIN:VEVENT
DTSTART;VALUE=DATE:20210907
DTEND;VALUE=DATE:20210908
DTSTAMP:20260425T164456
CREATED:20210705T102404Z
LAST-MODIFIED:20210705T102404Z
UID:1981-1630972800-1631059199@www.williamsburgmontessori.org
SUMMARY:Teacher In-Service Day
DESCRIPTION:
URL:https://www.williamsburgmontessori.org/calendar/teacher-in-service-day/
END:VEVENT
BEGIN:VEVENT
DTSTART;VALUE=DATE:20210906
DTEND;VALUE=DATE:20210907
DTSTAMP:20260425T164456
CREATED:20210705T102318Z
LAST-MODIFIED:20210705T102318Z
UID:1979-1630886400-1630972799@www.williamsburgmontessori.org
SUMMARY:School Closed for Labor Day
DESCRIPTION:
URL:https://www.williamsburgmontessori.org/calendar/school-closed-for-labor-day-4/
END:VEVENT
BEGIN:VEVENT
DTSTART;TZID=UTC:20210903T100000
DTEND;TZID=UTC:20210903T123000
DTSTAMP:20260425T164456
CREATED:20210705T101419Z
LAST-MODIFIED:20210705T101419Z
UID:1973-1630663200-1630672200@www.williamsburgmontessori.org
SUMMARY:Eighth Grade Leadership Conference
DESCRIPTION:
URL:https://www.williamsburgmontessori.org/calendar/eighth-grade-leadership-conference-2/
END:VEVENT
BEGIN:VEVENT
DTSTART;TZID=UTC:20210903T093000
DTEND;TZID=UTC:20210903T093000
DTSTAMP:20260425T164456
CREATED:20210705T101605Z
LAST-MODIFIED:20210705T101605Z
UID:1975-1630661400-1630661400@www.williamsburgmontessori.org
SUMMARY:Orientation for New Children's House Students
DESCRIPTION:
URL:https://www.williamsburgmontessori.org/calendar/orientation-for-new-childrens-house-students-4/
END:VEVENT
BEGIN:VEVENT
DTSTART;TZID=UTC:20210903T090000
DTEND;TZID=UTC:20210903T110000
DTSTAMP:20260425T164456
CREATED:20210705T102212Z
LAST-MODIFIED:20210705T102212Z
UID:1977-1630659600-1630666800@www.williamsburgmontessori.org
SUMMARY:Sixth Year Leadership Conference
DESCRIPTION:
URL:https://www.williamsburgmontessori.org/calendar/sixth-year-leadership-conference-4/
END:VEVENT
BEGIN:VEVENT
DTSTART;TZID=UTC:20210830T080000
DTEND;TZID=UTC:20210903T170000
DTSTAMP:20260425T164456
CREATED:20210705T101242Z
LAST-MODIFIED:20210705T101242Z
UID:1971-1630310400-1630688400@www.williamsburgmontessori.org
SUMMARY:Staff Professional Days
DESCRIPTION:
URL:https://www.williamsburgmontessori.org/calendar/staff-professional-days-4/
END:VEVENT
BEGIN:VEVENT
DTSTART;TZID=UTC:20210816T080000
DTEND;TZID=UTC:20210820T170000
DTSTAMP:20260425T164456
CREATED:20200807T204720Z
LAST-MODIFIED:20200807T204720Z
UID:1770-1629100800-1629478800@www.williamsburgmontessori.org
SUMMARY:Optional Add-on Week of Camp for CH
DESCRIPTION:
URL:https://www.williamsburgmontessori.org/calendar/optional-add-on-week-of-camp-for-ch/
END:VEVENT
BEGIN:VEVENT
DTSTART;TZID=UTC:20210813T080000
DTEND;TZID=UTC:20210813T170000
DTSTAMP:20260425T164456
CREATED:20200807T204633Z
LAST-MODIFIED:20200807T204633Z
UID:1768-1628841600-1628874000@www.williamsburgmontessori.org
SUMMARY:Last Day of Summer Session
DESCRIPTION:
URL:https://www.williamsburgmontessori.org/calendar/last-day-of-summer-session-3/
END:VEVENT
BEGIN:VEVENT
DTSTART;TZID=UTC:20210705T080000
DTEND;TZID=UTC:20210705T170000
DTSTAMP:20260425T164456
CREATED:20200807T204552Z
LAST-MODIFIED:20200807T204552Z
UID:1766-1625472000-1625504400@www.williamsburgmontessori.org
SUMMARY:School Closed for Independence Day
DESCRIPTION:
URL:https://www.williamsburgmontessori.org/calendar/school-closed-for-independence-day-4/
END:VEVENT
END:VCALENDAR