BEGIN:VCALENDAR
VERSION:2.0
PRODID:-//Williamsburg Montessori School - ECPv6.15.20//NONSGML v1.0//EN
CALSCALE:GREGORIAN
METHOD:PUBLISH
X-WR-CALNAME:Williamsburg Montessori School
X-ORIGINAL-URL:https://www.williamsburgmontessori.org
X-WR-CALDESC:Events for Williamsburg Montessori School
REFRESH-INTERVAL;VALUE=DURATION:PT1H
X-Robots-Tag:noindex
X-PUBLISHED-TTL:PT1H
BEGIN:VTIMEZONE
TZID:UTC
BEGIN:STANDARD
TZOFFSETFROM:+0000
TZOFFSETTO:+0000
TZNAME:UTC
DTSTART:20240101T000000
END:STANDARD
END:VTIMEZONE
BEGIN:VEVENT
DTSTART;TZID=UTC:20260731T080000
DTEND;TZID=UTC:20260731T170000
DTSTAMP:20260423T230249
CREATED:20260129T155818Z
LAST-MODIFIED:20260129T155818Z
UID:6708-1785484800-1785517200@www.williamsburgmontessori.org
SUMMARY:Toddler Program Ends
DESCRIPTION:
URL:https://www.williamsburgmontessori.org/calendar/toddler-program-ends-5/
END:VEVENT
BEGIN:VEVENT
DTSTART;TZID=UTC:20260731T080000
DTEND;TZID=UTC:20260731T170000
DTSTAMP:20260423T230249
CREATED:20260129T155749Z
LAST-MODIFIED:20260129T155749Z
UID:6706-1785484800-1785517200@www.williamsburgmontessori.org
SUMMARY:Last Day of Summer Session
DESCRIPTION:
URL:https://www.williamsburgmontessori.org/calendar/last-day-of-summer-session-8/
END:VEVENT
BEGIN:VEVENT
DTSTART;TZID=UTC:20260704T080000
DTEND;TZID=UTC:20260704T170000
DTSTAMP:20260423T230249
CREATED:20260129T155716Z
LAST-MODIFIED:20260129T155716Z
UID:6704-1783152000-1783184400@www.williamsburgmontessori.org
SUMMARY:School Closed for 4th of July
DESCRIPTION:
URL:https://www.williamsburgmontessori.org/calendar/school-closed-for-4th-of-july-3/
END:VEVENT
BEGIN:VEVENT
DTSTART;TZID=UTC:20260619T080000
DTEND;TZID=UTC:20260619T170000
DTSTAMP:20260423T230249
CREATED:20260129T155636Z
LAST-MODIFIED:20260129T155636Z
UID:6702-1781856000-1781888400@www.williamsburgmontessori.org
SUMMARY:School Closed for Juneteenth
DESCRIPTION:
URL:https://www.williamsburgmontessori.org/calendar/school-closed-for-juneteenth-4/
END:VEVENT
BEGIN:VEVENT
DTSTART;TZID=UTC:20260615T080000
DTEND;TZID=UTC:20260615T170000
DTSTAMP:20260423T230249
CREATED:20260129T155548Z
LAST-MODIFIED:20260129T155548Z
UID:6700-1781510400-1781542800@www.williamsburgmontessori.org
SUMMARY:Summer Session Begins
DESCRIPTION:
URL:https://www.williamsburgmontessori.org/calendar/summer-session-begins-8/
END:VEVENT
BEGIN:VEVENT
DTSTART;TZID=UTC:20260608T080000
DTEND;TZID=UTC:20260612T170000
DTSTAMP:20260423T230249
CREATED:20260129T155433Z
LAST-MODIFIED:20260129T155433Z
UID:6698-1780905600-1781283600@www.williamsburgmontessori.org
SUMMARY:School Closed for Facility Maintenance
DESCRIPTION:
URL:https://www.williamsburgmontessori.org/calendar/school-closed-for-facility-maintenance-10/
END:VEVENT
BEGIN:VEVENT
DTSTART;TZID=UTC:20260605T080000
DTEND;TZID=UTC:20260605T170000
DTSTAMP:20260423T230249
CREATED:20260129T155220Z
LAST-MODIFIED:20260129T155220Z
UID:6696-1780646400-1780678800@www.williamsburgmontessori.org
SUMMARY:Last Day of School - Noon Dismissal
DESCRIPTION:
URL:https://www.williamsburgmontessori.org/calendar/last-day-of-school-noon-dismissal-4/
END:VEVENT
BEGIN:VEVENT
DTSTART;TZID=UTC:20260604T080000
DTEND;TZID=UTC:20260604T170000
DTSTAMP:20260423T230249
CREATED:20260129T155128Z
LAST-MODIFIED:20260129T155128Z
UID:6694-1780560000-1780592400@www.williamsburgmontessori.org
SUMMARY:Closing Ceremony
DESCRIPTION:
URL:https://www.williamsburgmontessori.org/calendar/closing-ceremony-9/
END:VEVENT
BEGIN:VEVENT
DTSTART;TZID=UTC:20260518T080000
DTEND;TZID=UTC:20260519T170000
DTSTAMP:20260423T230249
CREATED:20260129T154949Z
LAST-MODIFIED:20260129T154949Z
UID:6690-1779091200-1779210000@www.williamsburgmontessori.org
SUMMARY:School Closed for Parent Teacher Conferences
DESCRIPTION:
URL:https://www.williamsburgmontessori.org/calendar/school-closed-for-parent-teacher-conferences-12/
END:VEVENT
BEGIN:VEVENT
DTSTART;TZID=UTC:20260511T080000
DTEND;TZID=UTC:20260513T170000
DTSTAMP:20260423T230249
CREATED:20260129T154745Z
LAST-MODIFIED:20260129T154745Z
UID:6688-1778486400-1778691600@www.williamsburgmontessori.org
SUMMARY:CH Parent Child Visits (after school)
DESCRIPTION:
URL:https://www.williamsburgmontessori.org/calendar/ch-parent-child-visits-after-school-12/
END:VEVENT
BEGIN:VEVENT
DTSTART;TZID=UTC:20260501T080000
DTEND;TZID=UTC:20260501T170000
DTSTAMP:20260423T230249
CREATED:20260129T154649Z
LAST-MODIFIED:20260129T154649Z
UID:6686-1777622400-1777654800@www.williamsburgmontessori.org
SUMMARY:School Closed for Professional Day
DESCRIPTION:
URL:https://www.williamsburgmontessori.org/calendar/school-closed-for-professional-day-25/
END:VEVENT
BEGIN:VEVENT
DTSTART;TZID=UTC:20260413T080000
DTEND;TZID=UTC:20260413T170000
DTSTAMP:20260423T230249
CREATED:20260129T154556Z
LAST-MODIFIED:20260129T154556Z
UID:6684-1776067200-1776099600@www.williamsburgmontessori.org
SUMMARY:School Re-opens
DESCRIPTION:
URL:https://www.williamsburgmontessori.org/calendar/school-re-opens-4/
END:VEVENT
BEGIN:VEVENT
DTSTART;TZID=UTC:20260406T080000
DTEND;TZID=UTC:20260410T170000
DTSTAMP:20260423T230249
CREATED:20260129T154528Z
LAST-MODIFIED:20260129T154528Z
UID:6682-1775462400-1775840400@www.williamsburgmontessori.org
SUMMARY:School Closed for Spring Break
DESCRIPTION:
URL:https://www.williamsburgmontessori.org/calendar/school-closed-for-spring-break-5/
END:VEVENT
BEGIN:VEVENT
DTSTART;TZID=UTC:20260403T080000
DTEND;TZID=UTC:20260403T170000
DTSTAMP:20260423T230249
CREATED:20260129T154456Z
LAST-MODIFIED:20260129T154456Z
UID:6680-1775203200-1775235600@www.williamsburgmontessori.org
SUMMARY:Grandparent's Day Open House
DESCRIPTION:
URL:https://www.williamsburgmontessori.org/calendar/grandparents-day-open-house/
END:VEVENT
BEGIN:VEVENT
DTSTART;VALUE=DATE:20260320
DTEND;VALUE=DATE:20260322
DTSTAMP:20260423T230249
CREATED:20260129T154348Z
LAST-MODIFIED:20260204T140851Z
UID:6678-1773964800-1774137599@www.williamsburgmontessori.org
SUMMARY:AMS Conference - School Closed
DESCRIPTION:
URL:https://www.williamsburgmontessori.org/calendar/ams-conference-school-closed/
END:VEVENT
BEGIN:VEVENT
DTSTART;TZID=UTC:20260319T080000
DTEND;TZID=UTC:20260319T170000
DTSTAMP:20260423T230249
CREATED:20260204T035312Z
LAST-MODIFIED:20260204T035312Z
UID:6715-1773907200-1773939600@www.williamsburgmontessori.org
SUMMARY:Snow Day Make Up - School in Session
DESCRIPTION:
URL:https://www.williamsburgmontessori.org/calendar/snow-day-make-up-school-in-session/
END:VEVENT
BEGIN:VEVENT
DTSTART;TZID=UTC:20260219T080000
DTEND;TZID=UTC:20260219T170000
DTSTAMP:20260423T230249
CREATED:20260129T154250Z
LAST-MODIFIED:20260129T154250Z
UID:6676-1771488000-1771520400@www.williamsburgmontessori.org
SUMMARY:Montessori for Middle School - Parent Enrichment
DESCRIPTION:
URL:https://www.williamsburgmontessori.org/calendar/montessori-for-middle-school-parent-enrichment/
END:VEVENT
BEGIN:VEVENT
DTSTART;VALUE=DATE:20260216
DTEND;VALUE=DATE:20260217
DTSTAMP:20260423T230249
CREATED:20260129T154158Z
LAST-MODIFIED:20260129T154158Z
UID:6674-1771200000-1771286399@www.williamsburgmontessori.org
SUMMARY:School Closed for President's Day
DESCRIPTION:
URL:https://www.williamsburgmontessori.org/calendar/school-closed-for-presidents-day-9/
END:VEVENT
BEGIN:VEVENT
DTSTART;TZID=UTC:20260212T080000
DTEND;TZID=UTC:20260212T170000
DTSTAMP:20260423T230249
CREATED:20260129T154106Z
LAST-MODIFIED:20260129T154106Z
UID:6672-1770883200-1770915600@www.williamsburgmontessori.org
SUMMARY:What is So Special about Montessori Elementary - Parent Enrichment
DESCRIPTION:
URL:https://www.williamsburgmontessori.org/calendar/what-is-so-special-about-montessori-elementary-parent-enrichment/
END:VEVENT
BEGIN:VEVENT
DTSTART;TZID=UTC:20260208T130000
DTEND;TZID=UTC:20260208T150000
DTSTAMP:20260423T230249
CREATED:20260129T153801Z
LAST-MODIFIED:20260129T153801Z
UID:6666-1770555600-1770562800@www.williamsburgmontessori.org
SUMMARY:Winter Open House
DESCRIPTION:
URL:https://www.williamsburgmontessori.org/calendar/winter-open-house-6/
END:VEVENT
BEGIN:VEVENT
DTSTART;VALUE=DATE:20260206
DTEND;VALUE=DATE:20260207
DTSTAMP:20260423T230249
CREATED:20260129T154007Z
LAST-MODIFIED:20260129T154007Z
UID:6670-1770336000-1770422399@www.williamsburgmontessori.org
SUMMARY:School Closed for Professional Day
DESCRIPTION:
URL:https://www.williamsburgmontessori.org/calendar/school-closed-for-professional-day-24/
END:VEVENT
BEGIN:VEVENT
DTSTART;TZID=UTC:20260205T180000
DTEND;TZID=UTC:20260205T200000
DTSTAMP:20260423T230249
CREATED:20260129T153920Z
LAST-MODIFIED:20260129T153920Z
UID:6668-1770314400-1770321600@www.williamsburgmontessori.org
SUMMARY:Why is Montessori So Important for the Kindergarten Year?
DESCRIPTION:
URL:https://www.williamsburgmontessori.org/calendar/why-is-montessori-so-important-for-the-kindergarten-year-2/
END:VEVENT
BEGIN:VEVENT
DTSTART;TZID=UTC:20260129T080000
DTEND;TZID=UTC:20260525T170000
DTSTAMP:20260423T230249
CREATED:20260129T155058Z
LAST-MODIFIED:20260129T155058Z
UID:6692-1769673600-1779728400@www.williamsburgmontessori.org
SUMMARY:School Closed for Memorial Day
DESCRIPTION:
URL:https://www.williamsburgmontessori.org/calendar/school-closed-for-memorial-day-7/
END:VEVENT
BEGIN:VEVENT
DTSTART;TZID=UTC:20250911T183000
DTEND;TZID=UTC:20250911T193000
DTSTAMP:20260423T230249
CREATED:20250826T214409Z
LAST-MODIFIED:20250826T214409Z
UID:6635-1757615400-1757619000@www.williamsburgmontessori.org
SUMMARY:CH2 and CH3 Orientation
DESCRIPTION:
URL:https://www.williamsburgmontessori.org/calendar/ch2-and-ch3-orientation-2/
END:VEVENT
BEGIN:VEVENT
DTSTART;TZID=UTC:20250910T183000
DTEND;TZID=UTC:20250910T193000
DTSTAMP:20260423T230249
CREATED:20250826T214318Z
LAST-MODIFIED:20250826T214318Z
UID:6633-1757529000-1757532600@www.williamsburgmontessori.org
SUMMARY:Lower Elementary Orientation
DESCRIPTION:
URL:https://www.williamsburgmontessori.org/calendar/lower-elementary-orientation-3/
END:VEVENT
BEGIN:VEVENT
DTSTART;TZID=UTC:20250909T183000
DTEND;TZID=UTC:20250909T193000
DTSTAMP:20260423T230249
CREATED:20250826T213958Z
LAST-MODIFIED:20250826T213958Z
UID:6631-1757442600-1757446200@www.williamsburgmontessori.org
SUMMARY:CH1 and Upper Elementary Orientation
DESCRIPTION:
URL:https://www.williamsburgmontessori.org/calendar/ch1-and-upper-elementary-orientation-3/
END:VEVENT
BEGIN:VEVENT
DTSTART;TZID=UTC:20250904T183000
DTEND;TZID=UTC:20250904T193000
DTSTAMP:20260423T230249
CREATED:20250826T213850Z
LAST-MODIFIED:20250826T213850Z
UID:6629-1757010600-1757014200@www.williamsburgmontessori.org
SUMMARY:Toddler and Middle School Orientation
DESCRIPTION:
URL:https://www.williamsburgmontessori.org/calendar/toddler-and-middle-school-orientation-3/
END:VEVENT
BEGIN:VEVENT
DTSTART;VALUE=DATE:20250901
DTEND;VALUE=DATE:20250902
DTSTAMP:20260423T230249
CREATED:20250826T213650Z
LAST-MODIFIED:20250826T213650Z
UID:6627-1756684800-1756771199@www.williamsburgmontessori.org
SUMMARY:School Closed for Labor Day
DESCRIPTION:
URL:https://www.williamsburgmontessori.org/calendar/school-closed-for-labor-day-8/
END:VEVENT
BEGIN:VEVENT
DTSTART;VALUE=DATE:20250829
DTEND;VALUE=DATE:20250830
DTSTAMP:20260423T230249
CREATED:20250826T213546Z
LAST-MODIFIED:20250826T213546Z
UID:6625-1756425600-1756511999@www.williamsburgmontessori.org
SUMMARY:School Closed
DESCRIPTION:
URL:https://www.williamsburgmontessori.org/calendar/school-closed-3/
END:VEVENT
BEGIN:VEVENT
DTSTART;VALUE=DATE:20250825
DTEND;VALUE=DATE:20250826
DTSTAMP:20260423T230249
CREATED:20241022T032130Z
LAST-MODIFIED:20241022T032130Z
UID:6238-1756080000-1756166399@www.williamsburgmontessori.org
SUMMARY:First Day of School
DESCRIPTION:
URL:https://www.williamsburgmontessori.org/calendar/first-day-of-school-2/
END:VEVENT
END:VCALENDAR