BEGIN:VCALENDAR
VERSION:2.0
PRODID:-//Williamsburg Montessori School - ECPv6.15.20//NONSGML v1.0//EN
CALSCALE:GREGORIAN
METHOD:PUBLISH
X-ORIGINAL-URL:https://www.williamsburgmontessori.org
X-WR-CALDESC:Events for Williamsburg Montessori School
REFRESH-INTERVAL;VALUE=DURATION:PT1H
X-Robots-Tag:noindex
X-PUBLISHED-TTL:PT1H
BEGIN:VTIMEZONE
TZID:UTC
BEGIN:STANDARD
TZOFFSETFROM:+0000
TZOFFSETTO:+0000
TZNAME:UTC
DTSTART:20240101T000000
END:STANDARD
END:VTIMEZONE
BEGIN:VEVENT
DTSTART;TZID=UTC:20250311T080000
DTEND;TZID=UTC:20250311T083000
DTSTAMP:20260424T103437
CREATED:20241022T032929Z
LAST-MODIFIED:20241022T032929Z
UID:6256-1741680000-1741681800@www.williamsburgmontessori.org
SUMMARY:Lower Elementary Drop-in
DESCRIPTION:
URL:https://www.williamsburgmontessori.org/calendar/lower-elementary-drop-in-8/
END:VEVENT
END:VCALENDAR