BEGIN:VCALENDAR
VERSION:2.0
PRODID:-//Williamsburg Montessori School - ECPv6.15.20//NONSGML v1.0//EN
CALSCALE:GREGORIAN
METHOD:PUBLISH
X-WR-CALNAME:Williamsburg Montessori School
X-ORIGINAL-URL:https://www.williamsburgmontessori.org
X-WR-CALDESC:Events for Williamsburg Montessori School
REFRESH-INTERVAL;VALUE=DURATION:PT1H
X-Robots-Tag:noindex
X-PUBLISHED-TTL:PT1H
BEGIN:VTIMEZONE
TZID:UTC
BEGIN:STANDARD
TZOFFSETFROM:+0000
TZOFFSETTO:+0000
TZNAME:UTC
DTSTART:20240101T000000
END:STANDARD
END:VTIMEZONE
BEGIN:VEVENT
DTSTART;TZID=UTC:20250213T170000
DTEND;TZID=UTC:20250213T190000
DTSTAMP:20260424T115347
CREATED:20241022T030816Z
LAST-MODIFIED:20241022T030816Z
UID:6196-1739466000-1739473200@www.williamsburgmontessori.org
SUMMARY:Parent Enrichment - What is so special about Montessori Elementary?
DESCRIPTION:
URL:https://www.williamsburgmontessori.org/calendar/parent-enrichment-what-is-so-special-about-montessori-elementary/
END:VEVENT
END:VCALENDAR