BEGIN:VCALENDAR
VERSION:2.0
PRODID:-//Williamsburg Montessori School - ECPv6.15.20//NONSGML v1.0//EN
CALSCALE:GREGORIAN
METHOD:PUBLISH
X-WR-CALNAME:Williamsburg Montessori School
X-ORIGINAL-URL:https://www.williamsburgmontessori.org
X-WR-CALDESC:Events for Williamsburg Montessori School
REFRESH-INTERVAL;VALUE=DURATION:PT1H
X-Robots-Tag:noindex
X-PUBLISHED-TTL:PT1H
BEGIN:VTIMEZONE
TZID:UTC
BEGIN:STANDARD
TZOFFSETFROM:+0000
TZOFFSETTO:+0000
TZNAME:UTC
DTSTART:20240101T000000
END:STANDARD
END:VTIMEZONE
BEGIN:VEVENT
DTSTART;TZID=UTC:20250106T080000
DTEND;TZID=UTC:20250106T170000
DTSTAMP:20260424T131005
CREATED:20240826T025342Z
LAST-MODIFIED:20240826T025342Z
UID:6117-1736150400-1736182800@www.williamsburgmontessori.org
SUMMARY:School Reopens
DESCRIPTION:
URL:https://www.williamsburgmontessori.org/calendar/school-reopens-10/
END:VEVENT
END:VCALENDAR