BEGIN:VCALENDAR
VERSION:2.0
PRODID:-//Williamsburg Montessori School - ECPv6.15.20//NONSGML v1.0//EN
CALSCALE:GREGORIAN
METHOD:PUBLISH
X-ORIGINAL-URL:https://www.williamsburgmontessori.org
X-WR-CALDESC:Events for Williamsburg Montessori School
REFRESH-INTERVAL;VALUE=DURATION:PT1H
X-Robots-Tag:noindex
X-PUBLISHED-TTL:PT1H
BEGIN:VTIMEZONE
TZID:UTC
BEGIN:STANDARD
TZOFFSETFROM:+0000
TZOFFSETTO:+0000
TZNAME:UTC
DTSTART:20230101T000000
END:STANDARD
END:VTIMEZONE
BEGIN:VEVENT
DTSTART;TZID=UTC:20241118T080000
DTEND;TZID=UTC:20241120T170000
DTSTAMP:20260424T153253
CREATED:20241022T030447Z
LAST-MODIFIED:20241022T030447Z
UID:6188-1731916800-1732122000@www.williamsburgmontessori.org
SUMMARY:CH Parent Child Visits (after school)
DESCRIPTION:
URL:https://www.williamsburgmontessori.org/calendar/ch-parent-child-visits-after-school-10/
END:VEVENT
END:VCALENDAR