BEGIN:VCALENDAR
VERSION:2.0
PRODID:-//Williamsburg Montessori School - ECPv6.15.20//NONSGML v1.0//EN
CALSCALE:GREGORIAN
METHOD:PUBLISH
X-WR-CALNAME:Williamsburg Montessori School
X-ORIGINAL-URL:https://www.williamsburgmontessori.org
X-WR-CALDESC:Events for Williamsburg Montessori School
REFRESH-INTERVAL;VALUE=DURATION:PT1H
X-Robots-Tag:noindex
X-PUBLISHED-TTL:PT1H
BEGIN:VTIMEZONE
TZID:UTC
BEGIN:STANDARD
TZOFFSETFROM:+0000
TZOFFSETTO:+0000
TZNAME:UTC
DTSTART:20220101T000000
END:STANDARD
END:VTIMEZONE
BEGIN:VEVENT
DTSTART;VALUE=DATE:20230811
DTEND;VALUE=DATE:20230812
DTSTAMP:20260425T104709
CREATED:20221222T145259Z
LAST-MODIFIED:20221222T145259Z
UID:5214-1691712000-1691798399@www.williamsburgmontessori.org
SUMMARY:Last Day of Summer Session
DESCRIPTION:
URL:https://www.williamsburgmontessori.org/calendar/last-day-of-summer-session-5/
END:VEVENT
BEGIN:VEVENT
DTSTART;VALUE=DATE:20230811
DTEND;VALUE=DATE:20230812
DTSTAMP:20260425T104709
CREATED:20221222T145323Z
LAST-MODIFIED:20221222T145323Z
UID:5216-1691712000-1691798399@www.williamsburgmontessori.org
SUMMARY:Toddler Program Ends
DESCRIPTION:
URL:https://www.williamsburgmontessori.org/calendar/toddler-program-ends-2/
END:VEVENT
END:VCALENDAR